BEGIN:VCALENDAR
VERSION:2.0
PRODID:-//Urig Altdorf - ECPv6.15.20//NONSGML v1.0//EN
CALSCALE:GREGORIAN
METHOD:PUBLISH
X-WR-CALNAME:Urig Altdorf
X-ORIGINAL-URL:https://urig-altdorf.ch
X-WR-CALDESC:Veranstaltungen für Urig Altdorf
REFRESH-INTERVAL;VALUE=DURATION:PT1H
X-Robots-Tag:noindex
X-PUBLISHED-TTL:PT1H
BEGIN:VTIMEZONE
TZID:Europe/Zurich
BEGIN:DAYLIGHT
TZOFFSETFROM:+0100
TZOFFSETTO:+0200
TZNAME:CEST
DTSTART:20250330T010000
END:DAYLIGHT
BEGIN:STANDARD
TZOFFSETFROM:+0200
TZOFFSETTO:+0100
TZNAME:CET
DTSTART:20251026T010000
END:STANDARD
BEGIN:DAYLIGHT
TZOFFSETFROM:+0100
TZOFFSETTO:+0200
TZNAME:CEST
DTSTART:20260329T010000
END:DAYLIGHT
BEGIN:STANDARD
TZOFFSETFROM:+0200
TZOFFSETTO:+0100
TZNAME:CET
DTSTART:20261025T010000
END:STANDARD
BEGIN:DAYLIGHT
TZOFFSETFROM:+0100
TZOFFSETTO:+0200
TZNAME:CEST
DTSTART:20270328T010000
END:DAYLIGHT
BEGIN:STANDARD
TZOFFSETFROM:+0200
TZOFFSETTO:+0100
TZNAME:CET
DTSTART:20271031T010000
END:STANDARD
END:VTIMEZONE
BEGIN:VEVENT
DTSTART;TZID=Europe/Zurich:20260213T120000
DTEND;TZID=Europe/Zurich:20260213T130000
DTSTAMP:20260424T151542
CREATED:20240807T161136Z
LAST-MODIFIED:20260203T094358Z
UID:886-1770984000-1770987600@urig-altdorf.ch
SUMMARY:Mittagstisch
DESCRIPTION:Wir freuen uns\, dass wir euch unseren beliebten Mittagstisch anbieten dürfen. Es gibt jeweils am Freitag ein leckeres\, mit Liebe gekochtes Menü für ALLE. \nAnmeldung für NICHT-Mitglieder unter urig-altdorf@protonmail.ch
URL:https://urig-altdorf.ch/event/mittagstisch-29/
LOCATION:Urig Altdorf\, Grenzgasse 8\, 6460 Altdorf\, Switzerland
ATTACH;FMTTYPE=image/png:https://urig-altdorf.ch/wp-content/uploads/2024/08/Bildschirmfoto-2024-08-28-um-11.04.14.png
END:VEVENT
BEGIN:VEVENT
DTSTART;TZID=Europe/Zurich:20260220T193000
DTEND;TZID=Europe/Zurich:20260220T223000
DTSTAMP:20260424T151542
CREATED:20260120T094933Z
LAST-MODIFIED:20260120T094933Z
UID:1099-1771615800-1771626600@urig-altdorf.ch
SUMMARY:Wie kommt es zu chronischen Krankheiten aus Sicht der GH?
DESCRIPTION:…..Infos folgen….
URL:https://urig-altdorf.ch/event/wie-kommt-es-zu-chronischen-krankheiten-aus-sicht-der-gh/
LOCATION:Urig Altdorf\, Grenzgasse 8\, 6460 Altdorf\, Switzerland
ATTACH;FMTTYPE=image/png:https://urig-altdorf.ch/wp-content/uploads/2026/01/Bildschirmfoto-2026-01-20-um-10.48.54.png
END:VEVENT
BEGIN:VEVENT
DTSTART;TZID=Europe/Zurich:20260227T120000
DTEND;TZID=Europe/Zurich:20260227T130000
DTSTAMP:20260424T151542
CREATED:20250410T074338Z
LAST-MODIFIED:20260203T094455Z
UID:1018-1772193600-1772197200@urig-altdorf.ch
SUMMARY:Mittagstisch
DESCRIPTION:Wir freuen uns\, dass wir euch unseren beliebten Mittagstisch anbieten dürfen. Es gibt jeweils am Freitag ein leckeres\, mit Liebe gekochtes Menü für ALLE. \nAnmeldung für NICHT-Mitglieder unter urig-altdorf@protonmail.ch
URL:https://urig-altdorf.ch/event/mittagstisch-30/
LOCATION:Urig Altdorf\, Grenzgasse 8\, 6460 Altdorf\, Switzerland
ATTACH;FMTTYPE=image/png:https://urig-altdorf.ch/wp-content/uploads/2024/08/Bildschirmfoto-2024-08-28-um-11.04.14.png
END:VEVENT
BEGIN:VEVENT
DTSTART;TZID=Europe/Zurich:20260227T193000
DTEND;TZID=Europe/Zurich:20260227T220000
DTSTAMP:20260424T151542
CREATED:20251203T104603Z
LAST-MODIFIED:20260113T155145Z
UID:1065-1772220600-1772229600@urig-altdorf.ch
SUMMARY:Entgiftung & Ausleitung
DESCRIPTION:Vortrag von Lina Rebmann \nMöchtest du dich von deinen Parasiten bestimmen lassen oder willst du die Parasiten aus deinem Körper\, deinen Emotionen\, deinem Geist loswerden und ein biotisches Klima in dir entwickeln? Hier erhältst du anregungen zum Thema Entgiftung und Ausleitung. \n\nDieser Vortrag richtet sich an Menschen\, die Interesse an alternativen Heilmethoden haben\, Selbstheilungstechniken in den einzelnen Themenbereichen erlangen wollen und eigenverantwortlich durch Leben gehen wollen.
URL:https://urig-altdorf.ch/event/entgiftung-ausleitung/
LOCATION:Urig Altdorf\, Grenzgasse 8\, 6460 Altdorf\, Switzerland
ATTACH;FMTTYPE=image/png:https://urig-altdorf.ch/wp-content/uploads/2025/12/Bildschirmfoto-2026-01-13-um-16.48.23.png
END:VEVENT
END:VCALENDAR