BEGIN:VCALENDAR
VERSION:2.0
PRODID:-//Urig Altdorf - ECPv6.15.20//NONSGML v1.0//EN
CALSCALE:GREGORIAN
METHOD:PUBLISH
X-ORIGINAL-URL:https://urig-altdorf.ch
X-WR-CALDESC:Veranstaltungen für Urig Altdorf
REFRESH-INTERVAL;VALUE=DURATION:PT1H
X-Robots-Tag:noindex
X-PUBLISHED-TTL:PT1H
BEGIN:VTIMEZONE
TZID:Europe/Zurich
BEGIN:DAYLIGHT
TZOFFSETFROM:+0100
TZOFFSETTO:+0200
TZNAME:CEST
DTSTART:20230326T010000
END:DAYLIGHT
BEGIN:STANDARD
TZOFFSETFROM:+0200
TZOFFSETTO:+0100
TZNAME:CET
DTSTART:20231029T010000
END:STANDARD
BEGIN:DAYLIGHT
TZOFFSETFROM:+0100
TZOFFSETTO:+0200
TZNAME:CEST
DTSTART:20240331T010000
END:DAYLIGHT
BEGIN:STANDARD
TZOFFSETFROM:+0200
TZOFFSETTO:+0100
TZNAME:CET
DTSTART:20241027T010000
END:STANDARD
BEGIN:DAYLIGHT
TZOFFSETFROM:+0100
TZOFFSETTO:+0200
TZNAME:CEST
DTSTART:20250330T010000
END:DAYLIGHT
BEGIN:STANDARD
TZOFFSETFROM:+0200
TZOFFSETTO:+0100
TZNAME:CET
DTSTART:20251026T010000
END:STANDARD
END:VTIMEZONE
BEGIN:VEVENT
DTSTART;TZID=Europe/Zurich:20240301T000000
DTEND;TZID=Europe/Zurich:20240313T000000
DTSTAMP:20260419T143450
CREATED:20240226T193146Z
LAST-MODIFIED:20240311T085655Z
UID:775-1709251200-1710288000@urig-altdorf.ch
SUMMARY:Sportferien
DESCRIPTION:
URL:https://urig-altdorf.ch/event/sportferien/
LOCATION:Urig Altdorf\, Grenzgasse 8\, 6460 Altdorf\, Switzerland
END:VEVENT
BEGIN:VEVENT
DTSTART;TZID=Europe/Zurich:20240314T120000
DTEND;TZID=Europe/Zurich:20240314T133000
DTSTAMP:20260419T143450
CREATED:20231114T091830Z
LAST-MODIFIED:20240226T175527Z
UID:738-1710417600-1710423000@urig-altdorf.ch
SUMMARY:Mittagstisch
DESCRIPTION:Wir freuen uns\, dass wir euch unseren beliebten Mittagstisch wieder anbieten dürfen. Es gibt jeweils am Donnerstag ein leckeres\, mit Liebe gekochtes Menü für ALLE. \nAnmeldung für NICHT-Mitglieder unter urig-altdorf@protonmail.ch
URL:https://urig-altdorf.ch/event/mittagstisch-14/
LOCATION:Urig Altdorf\, Grenzgasse 8\, 6460 Altdorf\, Switzerland
ATTACH;FMTTYPE=image/png:https://urig-altdorf.ch/wp-content/uploads/2023/11/Bildschirmfoto-2023-11-14-um-10.13.11.png
END:VEVENT
BEGIN:VEVENT
DTSTART;TZID=Europe/Zurich:20240317T101500
DTEND;TZID=Europe/Zurich:20240317T140000
DTSTAMP:20260419T143450
CREATED:20240311T084453Z
LAST-MODIFIED:20240311T084508Z
UID:792-1710670500-1710684000@urig-altdorf.ch
SUMMARY:Fastenwanderung
DESCRIPTION:Wir wandern richtig und fasten erst in Gedanken\, denn alles beginnt in deinen Gedanken und Träumen. \nGemütliche Halbtages-Wanderung\, die genug Pausen lässt für den Infoteil zum Thema Fasten\, für die Besprechung deiner persönlichen Fastenreise und für den Austausch innerhalb der Gruppe. \nWir wandern von Flüelen nach Sisikon. Wir gehen ausser bei starkem Sturm bei jedem Wetter. Die Wanderung ist technisch einfach\, Wanderstöcke und rutschfeste Schuhe sind empfohlen. \nWanderzeit ohne Pausen: 2-3 h \nMitnehmen: Wetterschutz\, Frottetuch\, Getränke und wer will Picknick \nKursleitung: Eva Gutmann \nMindestteilnehmerzahl: 4 Personen \nDurchführungsbestätigung: bis 13.3. am Abend \n 
URL:https://urig-altdorf.ch/event/fastenwanderung/
LOCATION:Urig Altdorf\, Grenzgasse 8\, 6460 Altdorf\, Switzerland
ATTACH;FMTTYPE=image/png:https://urig-altdorf.ch/wp-content/uploads/2024/03/Bildschirmfoto-2024-03-11-um-09.44.32.png
END:VEVENT
BEGIN:VEVENT
DTSTART;TZID=Europe/Zurich:20240321T120000
DTEND;TZID=Europe/Zurich:20240321T133000
DTSTAMP:20260419T143450
CREATED:20231114T091800Z
LAST-MODIFIED:20240226T175545Z
UID:736-1711022400-1711027800@urig-altdorf.ch
SUMMARY:Mittagstisch
DESCRIPTION:Wir freuen uns\, dass wir euch unseren beliebten Mittagstisch wieder anbieten dürfen. Es gibt jeweils am Donnerstag ein leckeres\, mit Liebe gekochtes Menü für ALLE. \nAnmeldung für NICHT-Mitglieder unter urig-altdorf@protonmail.ch
URL:https://urig-altdorf.ch/event/mittagstisch-13/
LOCATION:Urig Altdorf\, Grenzgasse 8\, 6460 Altdorf\, Switzerland
ATTACH;FMTTYPE=image/png:https://urig-altdorf.ch/wp-content/uploads/2023/11/Bildschirmfoto-2023-11-14-um-10.13.11.png
END:VEVENT
BEGIN:VEVENT
DTSTART;TZID=Europe/Zurich:20240322T193000
DTEND;TZID=Europe/Zurich:20240322T220000
DTSTAMP:20260419T143450
CREATED:20240226T185005Z
LAST-MODIFIED:20240307T080932Z
UID:769-1711135800-1711144800@urig-altdorf.ch
SUMMARY:Gesundheit und Powertube
DESCRIPTION:Vortrag über das Gesundheitssystem\, Krankheitsbilder\, Wasser und Prävention von Fritz von Urig Krattigen. \nPowerTube: Was ist ein PowerTube? Wo kommt er her und wer hat ihn erfunden? Was macht es im Körper? Wie und wo setze ich ihn ein? Wie und wo therapiere ich?
URL:https://urig-altdorf.ch/event/powertube/
LOCATION:Urig Altdorf\, Grenzgasse 8\, 6460 Altdorf\, Switzerland
ATTACH;FMTTYPE=image/png:https://urig-altdorf.ch/wp-content/uploads/2024/02/Bildschirmfoto-2024-02-27-um-15.54.12.png
END:VEVENT
END:VCALENDAR