BEGIN:VCALENDAR
VERSION:2.0
PRODID:-//Urig Altdorf - ECPv6.15.20//NONSGML v1.0//EN
CALSCALE:GREGORIAN
METHOD:PUBLISH
X-ORIGINAL-URL:https://urig-altdorf.ch
X-WR-CALDESC:Veranstaltungen für Urig Altdorf
REFRESH-INTERVAL;VALUE=DURATION:PT1H
X-Robots-Tag:noindex
X-PUBLISHED-TTL:PT1H
BEGIN:VTIMEZONE
TZID:Europe/Zurich
BEGIN:DAYLIGHT
TZOFFSETFROM:+0100
TZOFFSETTO:+0200
TZNAME:CEST
DTSTART:20220327T010000
END:DAYLIGHT
BEGIN:STANDARD
TZOFFSETFROM:+0200
TZOFFSETTO:+0100
TZNAME:CET
DTSTART:20221030T010000
END:STANDARD
BEGIN:DAYLIGHT
TZOFFSETFROM:+0100
TZOFFSETTO:+0200
TZNAME:CEST
DTSTART:20230326T010000
END:DAYLIGHT
BEGIN:STANDARD
TZOFFSETFROM:+0200
TZOFFSETTO:+0100
TZNAME:CET
DTSTART:20231029T010000
END:STANDARD
BEGIN:DAYLIGHT
TZOFFSETFROM:+0100
TZOFFSETTO:+0200
TZNAME:CEST
DTSTART:20240331T010000
END:DAYLIGHT
BEGIN:STANDARD
TZOFFSETFROM:+0200
TZOFFSETTO:+0100
TZNAME:CET
DTSTART:20241027T010000
END:STANDARD
END:VTIMEZONE
BEGIN:VEVENT
DTSTART;TZID=Europe/Zurich:20231108T183000
DTEND;TZID=Europe/Zurich:20231108T193000
DTSTAMP:20260419T165310
CREATED:20231018T155141Z
LAST-MODIFIED:20231018T155848Z
UID:672-1699468200-1699471800@urig-altdorf.ch
SUMMARY:Vereinsvorstellung
DESCRIPTION:Barbara stellt euch Urig vor und erklärt\, welche Idee und welche Werte dahinterstecken. \n  \nBitte anmelden unter urig-altdorf@protonmail.ch
URL:https://urig-altdorf.ch/event/vereinsvorstellung-3/
LOCATION:Urig Altdorf\, Grenzgasse 8\, 6460 Altdorf\, Switzerland
END:VEVENT
BEGIN:VEVENT
DTSTART;TZID=Europe/Zurich:20231115T183000
DTEND;TZID=Europe/Zurich:20231115T193000
DTSTAMP:20260419T165310
CREATED:20231018T155205Z
LAST-MODIFIED:20231018T155907Z
UID:674-1700073000-1700076600@urig-altdorf.ch
SUMMARY:Vereinsvorstellung
DESCRIPTION:Barbara stellt euch Urig vor und erklärt\, welche Idee und welche Werte dahinterstecken. \n  \nBitte anmelden unter urig-altdorf@protonmail.ch
URL:https://urig-altdorf.ch/event/vereinsvorstellung-4/
LOCATION:Urig Altdorf\, Grenzgasse 8\, 6460 Altdorf\, Switzerland
END:VEVENT
BEGIN:VEVENT
DTSTART;TZID=Europe/Zurich:20231116T120000
DTEND;TZID=Europe/Zurich:20231116T133000
DTSTAMP:20260419T165310
CREATED:20231114T091537Z
LAST-MODIFIED:20231114T091537Z
UID:727-1700136000-1700141400@urig-altdorf.ch
SUMMARY:Mittagstisch
DESCRIPTION:Wir freuen uns\, dass wir euch unseren beliebten Mittagstisch wieder anbieten dürfen. Es gibt jeweils am Donnerstag ein leckeres\, mit Liebe gekochtes Menü für ALLE. \nAnmeldung für NICHT-Mitglieder unter urig-altdorf@protonmail.ch
URL:https://urig-altdorf.ch/event/mittagstisch-9/
LOCATION:Urig Altdorf\, Grenzgasse 8\, 6460 Altdorf\, Switzerland
ATTACH;FMTTYPE=image/png:https://urig-altdorf.ch/wp-content/uploads/2023/11/Bildschirmfoto-2023-11-14-um-10.13.11.png
END:VEVENT
BEGIN:VEVENT
DTSTART;TZID=Europe/Zurich:20231117T193000
DTEND;TZID=Europe/Zurich:20231117T220000
DTSTAMP:20260419T165310
CREATED:20231018T163249Z
LAST-MODIFIED:20231018T163249Z
UID:711-1700249400-1700258400@urig-altdorf.ch
SUMMARY:Die Lehre von Bruno Gröning
DESCRIPTION:Der Einführungsvortrag\, wie das Begleiten bei einer uralten\, vergessenen oder verdrängten Lebenshilfe die alle schwierigen Situationen leichter durchleben lässt oder die körperliche und seelische Heilung ermöglichen kann\, wird weltweit ehrenamtlich durchgeführt.\nGrossgeschrieben ist bei der Umsetzung des Gelernten der freie Wille! Willkommen sind Menschen aus jeder Religion\, allen Nationen\, jeden Alters oder Status. Menschen\, die Selbstverantwortung zu übernehmen bereit sind\, und die sich auf Wahrheit einlassen wollen.
URL:https://urig-altdorf.ch/event/die-lehre-von-bruno-groening/
LOCATION:Urig Altdorf\, Grenzgasse 8\, 6460 Altdorf\, Switzerland
ATTACH;FMTTYPE=image/png:https://urig-altdorf.ch/wp-content/uploads/2023/10/Bildschirmfoto-2023-10-18-um-18.31.42.png
END:VEVENT
BEGIN:VEVENT
DTSTART;TZID=Europe/Zurich:20231119T110000
DTEND;TZID=Europe/Zurich:20231119T150000
DTSTAMP:20260419T165310
CREATED:20231018T154136Z
LAST-MODIFIED:20231018T154136Z
UID:663-1700391600-1700406000@urig-altdorf.ch
SUMMARY:Brunch
DESCRIPTION:Wir freuen uns auf ein gemütliches Zusammensein bei einem feinen Brunch-Buffet im Urig in Altdorf. \n\nGerne dürft ihr auch etwas beisteuern zu unserem Buffet. Bei der Umfrage bitte ankreuzen\, was ihr Leckeres mitbringen möchtet. Das ist selbstverständlich keine Pflicht.
URL:https://urig-altdorf.ch/event/brunch-2/
LOCATION:Urig Altdorf\, Grenzgasse 8\, 6460 Altdorf\, Switzerland
ATTACH;FMTTYPE=image/jpeg:https://urig-altdorf.ch/wp-content/uploads/2023/02/F0E162C6-BC2E-4F1B-A815-1191A7511F47_1_201_a.jpeg
END:VEVENT
BEGIN:VEVENT
DTSTART;TZID=Europe/Zurich:20231122T183000
DTEND;TZID=Europe/Zurich:20231122T193000
DTSTAMP:20260419T165310
CREATED:20231018T155225Z
LAST-MODIFIED:20231018T155927Z
UID:676-1700677800-1700681400@urig-altdorf.ch
SUMMARY:Vereinsvorstellung
DESCRIPTION:Barbara stellt euch Urig vor und erklärt\, welche Idee und welche Werte dahinterstecken. \n  \nBitte anmelden unter urig-altdorf@protonmail.ch
URL:https://urig-altdorf.ch/event/vereinsvorstellung-5/
LOCATION:Urig Altdorf\, Grenzgasse 8\, 6460 Altdorf\, Switzerland
END:VEVENT
BEGIN:VEVENT
DTSTART;TZID=Europe/Zurich:20231123T120000
DTEND;TZID=Europe/Zurich:20231123T133000
DTSTAMP:20260419T165310
CREATED:20231114T091626Z
LAST-MODIFIED:20231114T091626Z
UID:730-1700740800-1700746200@urig-altdorf.ch
SUMMARY:Mittagstisch
DESCRIPTION:Wir freuen uns\, dass wir euch unseren beliebten Mittagstisch wieder anbieten dürfen. Es gibt jeweils am Donnerstag ein leckeres\, mit Liebe gekochtes Menü für ALLE. \nAnmeldung für NICHT-Mitglieder unter urig-altdorf@protonmail.ch
URL:https://urig-altdorf.ch/event/mittagstisch-10/
LOCATION:Urig Altdorf\, Grenzgasse 8\, 6460 Altdorf\, Switzerland
ATTACH;FMTTYPE=image/png:https://urig-altdorf.ch/wp-content/uploads/2023/11/Bildschirmfoto-2023-11-14-um-10.13.11.png
END:VEVENT
BEGIN:VEVENT
DTSTART;TZID=Europe/Zurich:20231124T193000
DTEND;TZID=Europe/Zurich:20231124T220000
DTSTAMP:20260419T165310
CREATED:20231112T152424Z
LAST-MODIFIED:20231114T093103Z
UID:723-1700854200-1700863200@urig-altdorf.ch
SUMMARY:Alaska - wild und frei
DESCRIPTION:Jürg bereist Alaska seit vielen Jahren. Er zeigt uns in einem einzigartigen\, selbst hergestellten Film die vielen Facetten Alaskas. \nEs lohnt sich auch kulinarisch\, denn wir dürfen Lachs aus Alaska kosten. So können wir das Land nicht nur mit den Augen sondern auch geschmacklich miterleben. \nWir freuen uns auf einen lockeren und gemütlichen Abend mit euch.
URL:https://urig-altdorf.ch/event/alaska-wild-und-frei/
LOCATION:Urig Altdorf\, Grenzgasse 8\, 6460 Altdorf\, Switzerland
ATTACH;FMTTYPE=image/png:https://urig-altdorf.ch/wp-content/uploads/2023/11/Bildschirmfoto-2023-11-14-um-10.30.35.png
END:VEVENT
BEGIN:VEVENT
DTSTART;TZID=Europe/Zurich:20231129T183000
DTEND;TZID=Europe/Zurich:20231129T193000
DTSTAMP:20260419T165310
CREATED:20231018T155243Z
LAST-MODIFIED:20231018T155945Z
UID:678-1701282600-1701286200@urig-altdorf.ch
SUMMARY:Vereinsvorstellung
DESCRIPTION:Barbara stellt euch Urig vor und erklärt\, welche Idee und welche Werte dahinterstecken. \n  \nBitte anmelden unter urig-altdorf@protonmail.ch
URL:https://urig-altdorf.ch/event/vereinsvorstellung-6/
LOCATION:Urig Altdorf\, Grenzgasse 8\, 6460 Altdorf\, Switzerland
END:VEVENT
BEGIN:VEVENT
DTSTART;TZID=Europe/Zurich:20231130T120000
DTEND;TZID=Europe/Zurich:20231130T133000
DTSTAMP:20260419T165310
CREATED:20231114T091658Z
LAST-MODIFIED:20231114T091658Z
UID:732-1701345600-1701351000@urig-altdorf.ch
SUMMARY:Mittagstisch
DESCRIPTION:Wir freuen uns\, dass wir euch unseren beliebten Mittagstisch wieder anbieten dürfen. Es gibt jeweils am Donnerstag ein leckeres\, mit Liebe gekochtes Menü für ALLE. \nAnmeldung für NICHT-Mitglieder unter urig-altdorf@protonmail.ch
URL:https://urig-altdorf.ch/event/mittagstisch-11/
LOCATION:Urig Altdorf\, Grenzgasse 8\, 6460 Altdorf\, Switzerland
ATTACH;FMTTYPE=image/png:https://urig-altdorf.ch/wp-content/uploads/2023/11/Bildschirmfoto-2023-11-14-um-10.13.11.png
END:VEVENT
END:VCALENDAR