BEGIN:VCALENDAR
VERSION:2.0
PRODID:-//Urig Altdorf - ECPv6.15.20//NONSGML v1.0//EN
CALSCALE:GREGORIAN
METHOD:PUBLISH
X-WR-CALNAME:Urig Altdorf
X-ORIGINAL-URL:https://urig-altdorf.ch
X-WR-CALDESC:Veranstaltungen für Urig Altdorf
REFRESH-INTERVAL;VALUE=DURATION:PT1H
X-Robots-Tag:noindex
X-PUBLISHED-TTL:PT1H
BEGIN:VTIMEZONE
TZID:Europe/Zurich
BEGIN:DAYLIGHT
TZOFFSETFROM:+0100
TZOFFSETTO:+0200
TZNAME:CEST
DTSTART:20220327T010000
END:DAYLIGHT
BEGIN:STANDARD
TZOFFSETFROM:+0200
TZOFFSETTO:+0100
TZNAME:CET
DTSTART:20221030T010000
END:STANDARD
BEGIN:DAYLIGHT
TZOFFSETFROM:+0100
TZOFFSETTO:+0200
TZNAME:CEST
DTSTART:20230326T010000
END:DAYLIGHT
BEGIN:STANDARD
TZOFFSETFROM:+0200
TZOFFSETTO:+0100
TZNAME:CET
DTSTART:20231029T010000
END:STANDARD
BEGIN:DAYLIGHT
TZOFFSETFROM:+0100
TZOFFSETTO:+0200
TZNAME:CEST
DTSTART:20240331T010000
END:DAYLIGHT
BEGIN:STANDARD
TZOFFSETFROM:+0200
TZOFFSETTO:+0100
TZNAME:CET
DTSTART:20241027T010000
END:STANDARD
END:VTIMEZONE
BEGIN:VEVENT
DTSTART;TZID=Europe/Zurich:20230602T193000
DTEND;TZID=Europe/Zurich:20230602T213000
DTSTAMP:20260420T012155
CREATED:20230405T133925Z
LAST-MODIFIED:20230517T182502Z
UID:562-1685734200-1685741400@urig-altdorf.ch
SUMMARY:Unschooling
DESCRIPTION:Die Schweizer Unschooling-Pioniere Bruno und Doris Gantenbein haben mehr als 20 Jahre Erfahrung mit einem Leben ohne Schule. \nAn diesem Urig-Anlass plaudern sie aus dem Nähkästchen\, erzählen von ihrem Alltag und was das Wichtigste dabei ist\, wie sie sich organisiert hatten\, wie sie Unschooling ganz praktisch umgesetzt hatten\, mit welcher inneren Haltung sie ihre drei Kinder begleitet hatten\, welches der grösste Fehler ist…
URL:https://urig-altdorf.ch/event/unschooling/
LOCATION:Urig Altdorf\, Grenzgasse 8\, 6460 Altdorf\, Switzerland
ATTACH;FMTTYPE=image/png:https://urig-altdorf.ch/wp-content/uploads/2023/04/D31CA8DC-998A-42FD-A63A-B0BFF9287FDF.png
END:VEVENT
BEGIN:VEVENT
DTSTART;TZID=Europe/Zurich:20230609T090000
DTEND;TZID=Europe/Zurich:20230609T110000
DTSTAMP:20260420T012155
CREATED:20230513T081332Z
LAST-MODIFIED:20230607T124709Z
UID:581-1686301200-1686308400@urig-altdorf.ch
SUMMARY:Eltern/Kind Treff
DESCRIPTION:Jeweils am Freitag haben Mamis und Dädis mit Kindern im Vorschulalter die Möglichkeit im Uriger Garten zu jäten\, ernten\, mulchen etc. oder gemeinsam zu spielen\, sich auszutauschen und Spass zu haben. \nDie Kinder können jederzeit frei wählen\, ob sie ihrem Mami/Dädi beim Gärtnern mithelfen oder bei Spiel und Spass in Begleitung eines Erwachsenen die Bauernhofwelt entdecken möchten. Bei kaltem/nassem Wetter findet das Treffen im Uriglokal statt. \nEs besteht die Möglichkeit anschliessend beim Uriger Mittagstisch zu essen (Anmeldung separat über die Telegram-Umfrage vom Mittagstisch).
URL:https://urig-altdorf.ch/event/eltern-kind-treff/
LOCATION:Urig Altdorf\, Grenzgasse 8\, 6460 Altdorf\, Switzerland
ATTACH;FMTTYPE=image/png:https://urig-altdorf.ch/wp-content/uploads/2023/01/4504A4E9-3C15-4A25-9BF7-FD3C5198E79D.png
END:VEVENT
BEGIN:VEVENT
DTSTART;TZID=Europe/Zurich:20230609T120000
DTEND;TZID=Europe/Zurich:20230609T130000
DTSTAMP:20260420T012155
CREATED:20230405T132551Z
LAST-MODIFIED:20230607T124752Z
UID:550-1686312000-1686315600@urig-altdorf.ch
SUMMARY:Mittagstisch
DESCRIPTION:Mittagstisch für ALLE 🙂
URL:https://urig-altdorf.ch/event/mittagstisch-5/
LOCATION:Urig Altdorf\, Grenzgasse 8\, 6460 Altdorf\, Switzerland
ATTACH;FMTTYPE=image/png:https://urig-altdorf.ch/wp-content/uploads/2022/12/1D5008DC-E6BC-4A19-9AC4-C92C42A6D8D9.png
END:VEVENT
BEGIN:VEVENT
DTSTART;TZID=Europe/Zurich:20230613T193000
DTEND;TZID=Europe/Zurich:20230613T213000
DTSTAMP:20260420T012155
CREATED:20230607T124129Z
LAST-MODIFIED:20230607T124129Z
UID:608-1686684600-1686691800@urig-altdorf.ch
SUMMARY:Buchvorstellung Wallhandria
DESCRIPTION:Buchvorstellung – Wallhandria -Die Steine der Macht \n\nDie Urner Autorin Miriam erzählt über ihren Weg vom Schweigeretreat bis zum gedruckten Buch und erklärt\, wieso sie ihr Buch nicht nur Roman sondern spiritueller Roman nennt. Der Abend wird so gestaltet\, dass er für alle spannend wird\, unabhängig davon\, ob das Buch schon gelesen wurde oder nicht.
URL:https://urig-altdorf.ch/event/buchvorstellung-wallhandria/
LOCATION:Urig Altdorf\, Grenzgasse 8\, 6460 Altdorf\, Switzerland
ATTACH;FMTTYPE=image/png:https://urig-altdorf.ch/wp-content/uploads/2023/06/B5ADD555-B26E-4EE8-9651-A8F0DD86A05A.png
END:VEVENT
BEGIN:VEVENT
DTSTART;TZID=Europe/Zurich:20230616T090000
DTEND;TZID=Europe/Zurich:20230616T110000
DTSTAMP:20260420T012155
CREATED:20230607T125019Z
LAST-MODIFIED:20230607T125019Z
UID:620-1686906000-1686913200@urig-altdorf.ch
SUMMARY:Eltern/Kind Treff
DESCRIPTION:Jeweils am Freitag haben Mamis und Dädis mit Kindern im Vorschulalter die Möglichkeit im Uriger Garten zu jäten\, ernten\, mulchen etc. oder gemeinsam zu spielen\, sich auszutauschen und Spass zu haben. \nDie Kinder können jederzeit frei wählen\, ob sie ihrem Mami/Dädi beim Gärtnern mithelfen oder bei Spiel und Spass in Begleitung eines Erwachsenen die Bauernhofwelt entdecken möchten. Bei kaltem/nassem Wetter findet das Treffen im Uriglokal statt. \nEs besteht die Möglichkeit anschliessend beim Uriger Mittagstisch zu essen (Anmeldung separat über die Telegram-Umfrage vom Mittagstisch).
URL:https://urig-altdorf.ch/event/eltern-kind-treff-2/
LOCATION:Urig Altdorf\, Grenzgasse 8\, 6460 Altdorf\, Switzerland
ATTACH;FMTTYPE=image/png:https://urig-altdorf.ch/wp-content/uploads/2023/01/4504A4E9-3C15-4A25-9BF7-FD3C5198E79D.png
END:VEVENT
BEGIN:VEVENT
DTSTART;TZID=Europe/Zurich:20230616T120000
DTEND;TZID=Europe/Zurich:20230616T130000
DTSTAMP:20260420T012155
CREATED:20230607T124848Z
LAST-MODIFIED:20230607T124848Z
UID:614-1686916800-1686920400@urig-altdorf.ch
SUMMARY:Mittagstisch
DESCRIPTION:Mittagstisch für ALLE 🙂
URL:https://urig-altdorf.ch/event/mittagstisch-6/
LOCATION:Urig Altdorf\, Grenzgasse 8\, 6460 Altdorf\, Switzerland
ATTACH;FMTTYPE=image/png:https://urig-altdorf.ch/wp-content/uploads/2022/12/1D5008DC-E6BC-4A19-9AC4-C92C42A6D8D9.png
END:VEVENT
BEGIN:VEVENT
DTSTART;TZID=Europe/Zurich:20230623T090000
DTEND;TZID=Europe/Zurich:20230623T110000
DTSTAMP:20260420T012155
CREATED:20230607T125108Z
LAST-MODIFIED:20230607T125108Z
UID:622-1687510800-1687518000@urig-altdorf.ch
SUMMARY:Eltern/Kind Treff
DESCRIPTION:Jeweils am Freitag haben Mamis und Dädis mit Kindern im Vorschulalter die Möglichkeit im Uriger Garten zu jäten\, ernten\, mulchen etc. oder gemeinsam zu spielen\, sich auszutauschen und Spass zu haben. \nDie Kinder können jederzeit frei wählen\, ob sie ihrem Mami/Dädi beim Gärtnern mithelfen oder bei Spiel und Spass in Begleitung eines Erwachsenen die Bauernhofwelt entdecken möchten. Bei kaltem/nassem Wetter findet das Treffen im Uriglokal statt. \nEs besteht die Möglichkeit anschliessend beim Uriger Mittagstisch zu essen (Anmeldung separat über die Telegram-Umfrage vom Mittagstisch).
URL:https://urig-altdorf.ch/event/eltern-kind-treff-3/
LOCATION:Urig Altdorf\, Grenzgasse 8\, 6460 Altdorf\, Switzerland
ATTACH;FMTTYPE=image/png:https://urig-altdorf.ch/wp-content/uploads/2023/01/4504A4E9-3C15-4A25-9BF7-FD3C5198E79D.png
END:VEVENT
BEGIN:VEVENT
DTSTART;TZID=Europe/Zurich:20230623T120000
DTEND;TZID=Europe/Zurich:20230623T130000
DTSTAMP:20260420T012155
CREATED:20230607T124912Z
LAST-MODIFIED:20230607T124912Z
UID:616-1687521600-1687525200@urig-altdorf.ch
SUMMARY:Mittagstisch
DESCRIPTION:Mittagstisch für ALLE 🙂
URL:https://urig-altdorf.ch/event/mittagstisch-7/
LOCATION:Urig Altdorf\, Grenzgasse 8\, 6460 Altdorf\, Switzerland
ATTACH;FMTTYPE=image/png:https://urig-altdorf.ch/wp-content/uploads/2022/12/1D5008DC-E6BC-4A19-9AC4-C92C42A6D8D9.png
END:VEVENT
BEGIN:VEVENT
DTSTART;TZID=Europe/Zurich:20230630T090000
DTEND;TZID=Europe/Zurich:20230630T110000
DTSTAMP:20260420T012155
CREATED:20230607T125135Z
LAST-MODIFIED:20230607T125135Z
UID:624-1688115600-1688122800@urig-altdorf.ch
SUMMARY:Eltern/Kind Treff
DESCRIPTION:Jeweils am Freitag haben Mamis und Dädis mit Kindern im Vorschulalter die Möglichkeit im Uriger Garten zu jäten\, ernten\, mulchen etc. oder gemeinsam zu spielen\, sich auszutauschen und Spass zu haben. \nDie Kinder können jederzeit frei wählen\, ob sie ihrem Mami/Dädi beim Gärtnern mithelfen oder bei Spiel und Spass in Begleitung eines Erwachsenen die Bauernhofwelt entdecken möchten. Bei kaltem/nassem Wetter findet das Treffen im Uriglokal statt. \nEs besteht die Möglichkeit anschliessend beim Uriger Mittagstisch zu essen (Anmeldung separat über die Telegram-Umfrage vom Mittagstisch).
URL:https://urig-altdorf.ch/event/eltern-kind-treff-4/
LOCATION:Urig Altdorf\, Grenzgasse 8\, 6460 Altdorf\, Switzerland
ATTACH;FMTTYPE=image/png:https://urig-altdorf.ch/wp-content/uploads/2023/01/4504A4E9-3C15-4A25-9BF7-FD3C5198E79D.png
END:VEVENT
BEGIN:VEVENT
DTSTART;TZID=Europe/Zurich:20230630T120000
DTEND;TZID=Europe/Zurich:20230630T130000
DTSTAMP:20260420T012155
CREATED:20230607T124932Z
LAST-MODIFIED:20230607T124932Z
UID:618-1688126400-1688130000@urig-altdorf.ch
SUMMARY:Mittagstisch
DESCRIPTION:Mittagstisch für ALLE 🙂
URL:https://urig-altdorf.ch/event/mittagstisch-8/
LOCATION:Urig Altdorf\, Grenzgasse 8\, 6460 Altdorf\, Switzerland
ATTACH;FMTTYPE=image/png:https://urig-altdorf.ch/wp-content/uploads/2022/12/1D5008DC-E6BC-4A19-9AC4-C92C42A6D8D9.png
END:VEVENT
BEGIN:VEVENT
DTSTART;TZID=Europe/Zurich:20230630T193000
DTEND;TZID=Europe/Zurich:20230630T223000
DTSTAMP:20260420T012155
CREATED:20230607T124258Z
LAST-MODIFIED:20230607T124258Z
UID:611-1688153400-1688164200@urig-altdorf.ch
SUMMARY:Andreas Thiel
DESCRIPTION:Andreas Thiel stellt uns seinen Kinofilm vor.
URL:https://urig-altdorf.ch/event/andreas-thiel/
LOCATION:Urig Altdorf\, Grenzgasse 8\, 6460 Altdorf\, Switzerland
END:VEVENT
END:VCALENDAR