BEGIN:VCALENDAR
VERSION:2.0
PRODID:-//Urig Altdorf - ECPv6.15.20//NONSGML v1.0//EN
CALSCALE:GREGORIAN
METHOD:PUBLISH
X-ORIGINAL-URL:https://urig-altdorf.ch
X-WR-CALDESC:Veranstaltungen für Urig Altdorf
REFRESH-INTERVAL;VALUE=DURATION:PT1H
X-Robots-Tag:noindex
X-PUBLISHED-TTL:PT1H
BEGIN:VTIMEZONE
TZID:Europe/Zurich
BEGIN:DAYLIGHT
TZOFFSETFROM:+0100
TZOFFSETTO:+0200
TZNAME:CEST
DTSTART:20220327T010000
END:DAYLIGHT
BEGIN:STANDARD
TZOFFSETFROM:+0200
TZOFFSETTO:+0100
TZNAME:CET
DTSTART:20221030T010000
END:STANDARD
BEGIN:DAYLIGHT
TZOFFSETFROM:+0100
TZOFFSETTO:+0200
TZNAME:CEST
DTSTART:20230326T010000
END:DAYLIGHT
BEGIN:STANDARD
TZOFFSETFROM:+0200
TZOFFSETTO:+0100
TZNAME:CET
DTSTART:20231029T010000
END:STANDARD
BEGIN:DAYLIGHT
TZOFFSETFROM:+0100
TZOFFSETTO:+0200
TZNAME:CEST
DTSTART:20240331T010000
END:DAYLIGHT
BEGIN:STANDARD
TZOFFSETFROM:+0200
TZOFFSETTO:+0100
TZNAME:CET
DTSTART:20241027T010000
END:STANDARD
END:VTIMEZONE
BEGIN:VEVENT
DTSTART;TZID=Europe/Zurich:20230505T193000
DTEND;TZID=Europe/Zurich:20230505T213000
DTSTAMP:20260420T030232
CREATED:20230307T163917Z
LAST-MODIFIED:20230412T170022Z
UID:534-1683315000-1683322200@urig-altdorf.ch
SUMMARY:Zeitenwende; Ganzheitsmedizin im Wandel der Zeit
DESCRIPTION:Dieser Abend wird besonders sein\, denn ich versuche deine Fragen betreffend \nGesundheit individuell zu beantworten. Als Vorspann werde ich grundlegende \nInformationen vermitteln weshalb überhaupt Schmerzen\, Krankheiten und \nDisharmonien entstehen. Das Wissen um diese Zusammenhänge eröffnet uns \nein anderes Bewusstsein für das Leben auf dieser Erde. Somit wäre die Chance \ngegeben das eigene Leben bewusster\, liebevoller\, und friedfertiger zu \ngestalten. \nDu bist herzlichst eingeladen für diesen persönlichen Wandel.
URL:https://urig-altdorf.ch/event/zeitenwende-ganzheitsmedizin-im-wandel-der-zeit/
LOCATION:Urig Altdorf\, Grenzgasse 8\, 6460 Altdorf\, Switzerland
ATTACH;FMTTYPE=image/png:https://urig-altdorf.ch/wp-content/uploads/2023/02/BBCF7A0C-40B3-4F94-8563-3BA3A90F9210.png
END:VEVENT
BEGIN:VEVENT
DTSTART;TZID=Europe/Zurich:20230513T100000
DTEND;TZID=Europe/Zurich:20230513T160000
DTSTAMP:20260420T030232
CREATED:20230503T073527Z
LAST-MODIFIED:20230503T073527Z
UID:578-1683972000-1683993600@urig-altdorf.ch
SUMMARY:Russischer Tag
DESCRIPTION:1. Teil: Russland – Seine Menschen\, seine Kultur und seine Geschichte; ein kurzer Städtetrip nach Moskau; unser Russland-Bild: Klischees und Realität; ein bisschen Geografie und Ethnologie; Napoleon\, Sowjetunion\, Gorbatschow: Russlands neuere Geschichte \nca. 12:00 Uhr: Kulinarische Pause \n2. Teil: Bilder und Berichte aus Russland Eindrücke aus Sibirien • Irkutsk • Ulan Ude • Baikalsee Schulbesuch I • kyrillisches Alphabet • russischer Vatersname Stadt und Oblast Kaliningrad\, Baltikum • Warum gehört Königsberg heute zu Russland? • Das Haus Chance • Die kurische Nehrung • Ein kleiner Ausflug nach Lettland • Krasnolesje und die Rominter Heide Schulbesuch II • Gymnasium Nr. 1 in Kaliningrad \n\nDer Hauptteil dieses Vortrags entstand 2018 als Bericht an mein Schulhausteam über meine Aufenthalte in Russland im Rahmen meines Bildungssemesters 2017/18. Er bestand damals aus einigen Teilen zu Land und Kultur und hauptsächlich von meinen Aufenthalten in Irkutsk\, Ulan Ude und dem Kaliningrader Gebiet. \n\n✅ Ziele dieses Vortrags: Vorstellung von meinen persönlichen Eindrücken meiner Aufenthalte in Russland\, Abbau von Vorurteilen gegenüber Russland und den Russen\, einige Klischees widerlegen (oder bestätigen!)\, eine russische Perspektive auf aktuelle Ereignisse vermitteln\, einen bescheidenen Beitrag zur Völkerverständigung leisten \n❌ Was dieser Vortrag nicht will: die „richtige Meinung“ vermitteln\, Krieg rechtfertigen
URL:https://urig-altdorf.ch/event/russischer-tag/
LOCATION:Urig Altdorf\, Grenzgasse 8\, 6460 Altdorf\, Switzerland
ATTACH;FMTTYPE=image/png:https://urig-altdorf.ch/wp-content/uploads/2023/05/BA7AFA5C-4B63-4860-BEF9-6DBC187C94A3.png
END:VEVENT
BEGIN:VEVENT
DTSTART;TZID=Europe/Zurich:20230517T193000
DTEND;TZID=Europe/Zurich:20230517T213000
DTSTAMP:20260420T030232
CREATED:20230405T133836Z
LAST-MODIFIED:20230513T083438Z
UID:560-1684351800-1684359000@urig-altdorf.ch
SUMMARY:Nathtod
DESCRIPTION:Das Thema Nahtod interessiert dich? Dann bist du genau richtig! An diesem Abend erzählt Natascha ihre persönliche Geschichte. Ein Zusammenspiel zwischen Krankheit\, Ablehnung und Lebenswillen. Wie 45 Minuten Herzstillstand und ein 10-tägiger Komazustand das Leben von Natascha verändert haben. Eine bewegende Reise in andere Zeitlinien und andere Dimensionen. Sie teilt ihre Erkenntnisse aus dem Erlebnis und du hast die Möglichkeit all deine Fragen zum Thema Nahtod zu stellen. \n\n✅ Ziele dieses Vortrags: Ein Ausflug in das Leben von Natascha und ihr Erlebnis. Erkenntnisse aus dieser Zeit teilen. Wieso wir keine Angst vor dem Tod haben müssen und weshalb es sinnvoll ist\, sich mit dem Tod auseinanderzusetzen.
URL:https://urig-altdorf.ch/event/nathtod-erfahrung/
LOCATION:Urig Altdorf\, Grenzgasse 8\, 6460 Altdorf\, Switzerland
ATTACH;FMTTYPE=image/png:https://urig-altdorf.ch/wp-content/uploads/2023/04/D07AAB48-73EB-46F2-BC87-C03C011C57C1.png
END:VEVENT
END:VCALENDAR