BEGIN:VCALENDAR
VERSION:2.0
PRODID:-//Urig Altdorf - ECPv6.15.20//NONSGML v1.0//EN
CALSCALE:GREGORIAN
METHOD:PUBLISH
X-WR-CALNAME:Urig Altdorf
X-ORIGINAL-URL:https://urig-altdorf.ch
X-WR-CALDESC:Veranstaltungen für Urig Altdorf
REFRESH-INTERVAL;VALUE=DURATION:PT1H
X-Robots-Tag:noindex
X-PUBLISHED-TTL:PT1H
BEGIN:VTIMEZONE
TZID:Europe/Zurich
BEGIN:DAYLIGHT
TZOFFSETFROM:+0100
TZOFFSETTO:+0200
TZNAME:CEST
DTSTART:20220327T010000
END:DAYLIGHT
BEGIN:STANDARD
TZOFFSETFROM:+0200
TZOFFSETTO:+0100
TZNAME:CET
DTSTART:20221030T010000
END:STANDARD
BEGIN:DAYLIGHT
TZOFFSETFROM:+0100
TZOFFSETTO:+0200
TZNAME:CEST
DTSTART:20230326T010000
END:DAYLIGHT
BEGIN:STANDARD
TZOFFSETFROM:+0200
TZOFFSETTO:+0100
TZNAME:CET
DTSTART:20231029T010000
END:STANDARD
BEGIN:DAYLIGHT
TZOFFSETFROM:+0100
TZOFFSETTO:+0200
TZNAME:CEST
DTSTART:20240331T010000
END:DAYLIGHT
BEGIN:STANDARD
TZOFFSETFROM:+0200
TZOFFSETTO:+0100
TZNAME:CET
DTSTART:20241027T010000
END:STANDARD
END:VTIMEZONE
BEGIN:VEVENT
DTSTART;TZID=Europe/Zurich:20230414T193000
DTEND;TZID=Europe/Zurich:20230414T210000
DTSTAMP:20260420T044829
CREATED:20230405T132058Z
LAST-MODIFIED:20230405T132058Z
UID:547-1681500600-1681506000@urig-altdorf.ch
SUMMARY:Vortrag über Chlordioxid
DESCRIPTION:Einführung in die Wirkung und Anwendung von Chlordioxid: \n\nWas ist Chlordioxid?\nWas ist der Unterschied zwischen MMS = CD und CDL/CDS?\nWie wirkt Chlordioxid?\nWie wendet man Chlordioxid an?\nWas kann mit Chlordioxid behandelt werden?\nIst Chlordioxid giftig?\nWas für Vorsichtsmassnahmen sind zu beachten?
URL:https://urig-altdorf.ch/event/vortrag-ueber-chlordioxid/
LOCATION:Urig Altdorf\, Grenzgasse 8\, 6460 Altdorf\, Switzerland
ATTACH;FMTTYPE=image/png:https://urig-altdorf.ch/wp-content/uploads/2023/04/AC03F29D-EB19-4AD4-B423-89D0995AE59A.png
END:VEVENT
BEGIN:VEVENT
DTSTART;TZID=Europe/Zurich:20230421T090000
DTEND;TZID=Europe/Zurich:20230421T110000
DTSTAMP:20260420T044829
CREATED:20230405T132737Z
LAST-MODIFIED:20230405T132737Z
UID:552-1682067600-1682074800@urig-altdorf.ch
SUMMARY:Mutter/Kind Gartentreff
DESCRIPTION:Jeweils am Freitag haben Mamis und Dädis mit Kindern im Vorschulalter die Möglichkeit im Uriger Garten zu jäten\, ernten\, mulchen etc. oder gemeinsam zu spielen\, sich auszutauschen und Spass zu haben. \nDie Kinder können jederzeit frei wählen\, ob sie ihrem Mami/Dädi beim Gärtnern mithelfen oder bei Spiel und Spass in Begleitung eines Erwachsenen die Bauernhofwelt entdecken möchten. Bei kaltem/nassem Wetter findet das Treffen im Uriglokal statt. \nEs besteht die Möglichkeit anschliessend beim Uriger Mittagstisch zu essen (Anmeldung separat über die Telegram-Umfrage vom Mittagstisch).
URL:https://urig-altdorf.ch/event/mutter-kind-gartentreff/
LOCATION:Urig Altdorf\, Grenzgasse 8\, 6460 Altdorf\, Switzerland
ATTACH;FMTTYPE=image/png:https://urig-altdorf.ch/wp-content/uploads/2023/01/4504A4E9-3C15-4A25-9BF7-FD3C5198E79D.png
END:VEVENT
BEGIN:VEVENT
DTSTART;TZID=Europe/Zurich:20230421T193000
DTEND;TZID=Europe/Zurich:20230421T213000
DTSTAMP:20260420T044829
CREATED:20230405T133607Z
LAST-MODIFIED:20230412T170045Z
UID:556-1682105400-1682112600@urig-altdorf.ch
SUMMARY:Wendezeit und Paradigmenwechsel
DESCRIPTION:Der Mensch im Zyklus der Zeiten \n  \nMensch und Erde sind Teil eines multidimensionalen Kosmos. Vor diesem Hintergrund durchläuft die Erde zyklische Zeitalter\, und die Menschheit mit ihr. Heute sind wir wieder in einer Wendezeit\, in einem wichtigen Zyklusübergang. Was sagen die Schöpfungsmythen über den Zyklus der Zeiten\, über unsere Berufung als Menschen\, über unsere Gegenwart und Zukunft? Ein Vortrag über das Zeitgeschehen aus spiritueller Sicht. \n  \nArmin Risi (geb.1962): Philosoph und Sachbuchautor\, lebte als Mönch für achtzehn Jahre in vedischen Klöstern in Europa und Indien; Studium der Sanskrit-Schriften und der westlichen und östlichen Mysterientraditionen; seit 1999 freischaffender Schriftsteller und Referent; ist Autor von drei Gedichtbänden und neun Grundlagenwerken zum aktuellen Paradigmenwechsel\, unter anderem: Der radikale Mittelweg; Ganzheitliche Spiritualität; Einheit im Licht der Ganzheit; „Ihr seid Lichtwesen“ – Ursprung und Geschichte des Menschen; Gott und die Götter – Die prophezeite Wiederkehr des vedischen Wissens; Unsichtbare Welten – Der Kosmos ist multidimensional. \nWebsite: armin-risi.ch \n 
URL:https://urig-altdorf.ch/event/armin-risi/
END:VEVENT
BEGIN:VEVENT
DTSTART;TZID=Europe/Zurich:20230429T130000
DTEND;TZID=Europe/Zurich:20230429T173000
DTSTAMP:20260420T044829
CREATED:20230307T162841Z
LAST-MODIFIED:20230307T162841Z
UID:516-1682773200-1682789400@urig-altdorf.ch
SUMMARY:Könntest du im Notfall Leben retten?
DESCRIPTION:Jein?😉 Lerne Leben retten mit Alpinmedic.ch \n\nWer kennt es nicht? Dieses mulmige Gefühl\, dass man kaum korrekt handeln könnte\, wenn man an einen Notfall gelangen würde. Wie funktioniert schon wieder die Herzdruckmassage? Was ist der Heimlich-Griff? Und wie handelt man bei einem Unfall? \n\nDer letzte Nothelfer-Kurs liegt bei den meisten von uns schon Jahrzehnte zurück. Dabei entscheidet die erste Hilfe über Leben und Tod. \nAufgrund dessen bietet Alpinmedic.ch seit 2009 in der ganzen Schweiz zugeschnittene medizinische Sicherheitsdienstleistungen an. \nZiel ist es\, uns Urigern das lebensrettende Wissen in Form von einem Kurs vor Ort aufzufrischen. Urig Altdorf bietet die Möglichkeit sich weiterzubilden (mit Fachausweis falls gewünscht\, Fixpreis). \n\nInhalt und Kursziel: \n\nEinstieg in die Erste Hilfe bei Medizinischen Notfällen\nAlarmnummer in der Schweiz-der Notruf\nErstbeurteilung-Eigene Sicherheit\nVerkehrsunfall\, Auto\, Velo\, Motorrad\, Kickboard\nBewusstlose Person-Lagerung-Erstbeurteilung\nHerzdruckmassage und Einsatz des Laien Defibrillator AED\nAkute Atemnot und Erstickungsanfall\nSymptome Herzinfarkt und Schlaganfall\, was kann ich tun?\nSchnittverletzungen\, starke Blutungen\nDer Haushaltsunfall\, was ist häufig?\nMeine Apotheke\, wie schaut das Innenleben aus? Beratung und Infos zum sinnvollen Inhalt.
URL:https://urig-altdorf.ch/event/koenntest-du-im-notfall-leben-retten/
LOCATION:Urig Altdorf\, Grenzgasse 8\, 6460 Altdorf\, Switzerland
ATTACH;FMTTYPE=image/png:https://urig-altdorf.ch/wp-content/uploads/2023/03/47C16EA7-A35F-40C2-9022-669BA063C77B.png
END:VEVENT
END:VCALENDAR