BEGIN:VCALENDAR
VERSION:2.0
PRODID:-//Urig Altdorf - ECPv6.15.20//NONSGML v1.0//EN
CALSCALE:GREGORIAN
METHOD:PUBLISH
X-WR-CALNAME:Urig Altdorf
X-ORIGINAL-URL:https://urig-altdorf.ch
X-WR-CALDESC:Veranstaltungen für Urig Altdorf
REFRESH-INTERVAL;VALUE=DURATION:PT1H
X-Robots-Tag:noindex
X-PUBLISHED-TTL:PT1H
BEGIN:VTIMEZONE
TZID:Europe/Zurich
BEGIN:DAYLIGHT
TZOFFSETFROM:+0100
TZOFFSETTO:+0200
TZNAME:CEST
DTSTART:20220327T010000
END:DAYLIGHT
BEGIN:STANDARD
TZOFFSETFROM:+0200
TZOFFSETTO:+0100
TZNAME:CET
DTSTART:20221030T010000
END:STANDARD
BEGIN:DAYLIGHT
TZOFFSETFROM:+0100
TZOFFSETTO:+0200
TZNAME:CEST
DTSTART:20230326T010000
END:DAYLIGHT
BEGIN:STANDARD
TZOFFSETFROM:+0200
TZOFFSETTO:+0100
TZNAME:CET
DTSTART:20231029T010000
END:STANDARD
BEGIN:DAYLIGHT
TZOFFSETFROM:+0100
TZOFFSETTO:+0200
TZNAME:CEST
DTSTART:20240331T010000
END:DAYLIGHT
BEGIN:STANDARD
TZOFFSETFROM:+0200
TZOFFSETTO:+0100
TZNAME:CET
DTSTART:20241027T010000
END:STANDARD
END:VTIMEZONE
BEGIN:VEVENT
DTSTART;TZID=Europe/Zurich:20230212T110000
DTEND;TZID=Europe/Zurich:20230212T150000
DTSTAMP:20260420T075802
CREATED:20230205T123958Z
LAST-MODIFIED:20230205T124010Z
UID:493-1676199600-1676214000@urig-altdorf.ch
SUMMARY:Brunch
DESCRIPTION:Feiner Brunch mit lieben Menschen.
URL:https://urig-altdorf.ch/event/brunch/
LOCATION:Urig Altdorf\, Grenzgasse 8\, 6460 Altdorf\, Switzerland
ATTACH;FMTTYPE=image/jpeg:https://urig-altdorf.ch/wp-content/uploads/2023/02/F0E162C6-BC2E-4F1B-A815-1191A7511F47_1_201_a.jpeg
END:VEVENT
BEGIN:VEVENT
DTSTART;TZID=Europe/Zurich:20230224T193000
DTEND;TZID=Europe/Zurich:20230224T220000
DTSTAMP:20260420T075802
CREATED:20230205T124201Z
LAST-MODIFIED:20230205T124201Z
UID:495-1677267000-1677276000@urig-altdorf.ch
SUMMARY:Erlebnisabend
DESCRIPTION:Emotionale Balance unterstützen mit ätherischen Ölen. Finde heraus\, welche Öle Dich unterstützen können wenn Du traurig\, unsicher\, besorgt bedrückt\, bitter oder furchtsam bist.
URL:https://urig-altdorf.ch/event/erlebnisabend/
LOCATION:Urig Altdorf\, Grenzgasse 8\, 6460 Altdorf\, Switzerland
ATTACH;FMTTYPE=image/png:https://urig-altdorf.ch/wp-content/uploads/2023/01/BE6751ED-3E3D-4269-A8C8-8DB13DA36FE1.png
END:VEVENT
END:VCALENDAR