BEGIN:VCALENDAR
VERSION:2.0
PRODID:-//Urig Altdorf - ECPv6.15.20//NONSGML v1.0//EN
CALSCALE:GREGORIAN
METHOD:PUBLISH
X-WR-CALNAME:Urig Altdorf
X-ORIGINAL-URL:https://urig-altdorf.ch
X-WR-CALDESC:Veranstaltungen für Urig Altdorf
REFRESH-INTERVAL;VALUE=DURATION:PT1H
X-Robots-Tag:noindex
X-PUBLISHED-TTL:PT1H
BEGIN:VTIMEZONE
TZID:Europe/Zurich
BEGIN:DAYLIGHT
TZOFFSETFROM:+0100
TZOFFSETTO:+0200
TZNAME:CEST
DTSTART:20250330T010000
END:DAYLIGHT
BEGIN:STANDARD
TZOFFSETFROM:+0200
TZOFFSETTO:+0100
TZNAME:CET
DTSTART:20251026T010000
END:STANDARD
BEGIN:DAYLIGHT
TZOFFSETFROM:+0100
TZOFFSETTO:+0200
TZNAME:CEST
DTSTART:20260329T010000
END:DAYLIGHT
BEGIN:STANDARD
TZOFFSETFROM:+0200
TZOFFSETTO:+0100
TZNAME:CET
DTSTART:20261025T010000
END:STANDARD
BEGIN:DAYLIGHT
TZOFFSETFROM:+0100
TZOFFSETTO:+0200
TZNAME:CEST
DTSTART:20270328T010000
END:DAYLIGHT
BEGIN:STANDARD
TZOFFSETFROM:+0200
TZOFFSETTO:+0100
TZNAME:CET
DTSTART:20271031T010000
END:STANDARD
END:VTIMEZONE
BEGIN:VEVENT
DTSTART;TZID=Europe/Zurich:20260116T193000
DTEND;TZID=Europe/Zurich:20260116T220000
DTSTAMP:20260424T181302
CREATED:20251203T104506Z
LAST-MODIFIED:20260109T144947Z
UID:1063-1768591800-1768600800@urig-altdorf.ch
SUMMARY:Zahngesundheit
DESCRIPTION:Vortrag von Lina Rebmann \nWie kannst du deine Zähne stärken und aufbauen. Ob Zahnfleischbluten\, Karies\, nachwachsen lassen deiner Zähne\, Zungenbelag oder Organzugehörigkeiten. Ich teile sehr gerne mit dir mein Wissen an diesem Abend. Bringe gerne auch individuelle Fragen mit. \nDieser Vortrag richtet sich an Menschen\, die Interesse an alternativen Heilmethoden haben\, Selbstheilungstechniken in den einzelnen Themenbereichen erlangen wollen und eigenverantwortlich durch Leben gehen wollen.
URL:https://urig-altdorf.ch/event/zahngesundheit/
LOCATION:Urig Altdorf\, Grenzgasse 8\, 6460 Altdorf\, Switzerland
ATTACH;FMTTYPE=image/png:https://urig-altdorf.ch/wp-content/uploads/2025/12/Bildschirmfoto-2026-01-09-um-15.42.57.png
END:VEVENT
END:VCALENDAR