BEGIN:VCALENDAR
VERSION:2.0
PRODID:-//Urig Altdorf - ECPv6.15.20//NONSGML v1.0//EN
CALSCALE:GREGORIAN
METHOD:PUBLISH
X-ORIGINAL-URL:https://urig-altdorf.ch
X-WR-CALDESC:Veranstaltungen für Urig Altdorf
REFRESH-INTERVAL;VALUE=DURATION:PT1H
X-Robots-Tag:noindex
X-PUBLISHED-TTL:PT1H
BEGIN:VTIMEZONE
TZID:Europe/Zurich
BEGIN:DAYLIGHT
TZOFFSETFROM:+0100
TZOFFSETTO:+0200
TZNAME:CEST
DTSTART:20230326T010000
END:DAYLIGHT
BEGIN:STANDARD
TZOFFSETFROM:+0200
TZOFFSETTO:+0100
TZNAME:CET
DTSTART:20231029T010000
END:STANDARD
BEGIN:DAYLIGHT
TZOFFSETFROM:+0100
TZOFFSETTO:+0200
TZNAME:CEST
DTSTART:20240331T010000
END:DAYLIGHT
BEGIN:STANDARD
TZOFFSETFROM:+0200
TZOFFSETTO:+0100
TZNAME:CET
DTSTART:20241027T010000
END:STANDARD
BEGIN:DAYLIGHT
TZOFFSETFROM:+0100
TZOFFSETTO:+0200
TZNAME:CEST
DTSTART:20250330T010000
END:DAYLIGHT
BEGIN:STANDARD
TZOFFSETFROM:+0200
TZOFFSETTO:+0100
TZNAME:CET
DTSTART:20251026T010000
END:STANDARD
END:VTIMEZONE
BEGIN:VEVENT
DTSTART;TZID=Europe/Zurich:20240112T193000
DTEND;TZID=Europe/Zurich:20240112T220000
DTSTAMP:20260419T191238
CREATED:20231228T212903Z
LAST-MODIFIED:20231228T212903Z
UID:749-1705087800-1705096800@urig-altdorf.ch
SUMMARY:Die Welt ist aus Zahlen gebaut
DESCRIPTION:Der Architekt Linus Maeder hat sich viele Jahre mit den Eigenschaften von Zahlen auseinandergesetzt. Herausgekommen ist dabei das Werk „Die Zahlenmatrix des Lebens“. \n\nIm Vortrag wird erklärt\, wie Zahlen nicht nur Quantitäten\, sondern auch Qualitäten beinhalten und wie daraus die Matrix\, in welcher wir leben aufgebaut ist. Das beginnt bei den Eigenschaften chemischer Elemente über Wachstumsmuster in der Natur bis hin zur Entwicklungspsychologie und Numerologie. \n\nIm Besonderen wird in diesem Vortrag auf das Thema der Heiligen Geometrie eingegangen.
URL:https://urig-altdorf.ch/event/die-welt-ist-aus-zahlen-gebaut/
LOCATION:Urig Altdorf\, Grenzgasse 8\, 6460 Altdorf\, Switzerland
ATTACH;FMTTYPE=image/png:https://urig-altdorf.ch/wp-content/uploads/2023/12/Bildschirmfoto-2023-12-28-um-22.26.50.png
END:VEVENT
END:VCALENDAR