BEGIN:VCALENDAR
VERSION:2.0
PRODID:-//Urig Altdorf - ECPv6.15.20//NONSGML v1.0//EN
CALSCALE:GREGORIAN
METHOD:PUBLISH
X-WR-CALNAME:Urig Altdorf
X-ORIGINAL-URL:https://urig-altdorf.ch
X-WR-CALDESC:Veranstaltungen für Urig Altdorf
REFRESH-INTERVAL;VALUE=DURATION:PT1H
X-Robots-Tag:noindex
X-PUBLISHED-TTL:PT1H
BEGIN:VTIMEZONE
TZID:Europe/Zurich
BEGIN:DAYLIGHT
TZOFFSETFROM:+0100
TZOFFSETTO:+0200
TZNAME:CEST
DTSTART:20220327T010000
END:DAYLIGHT
BEGIN:STANDARD
TZOFFSETFROM:+0200
TZOFFSETTO:+0100
TZNAME:CET
DTSTART:20221030T010000
END:STANDARD
BEGIN:DAYLIGHT
TZOFFSETFROM:+0100
TZOFFSETTO:+0200
TZNAME:CEST
DTSTART:20230326T010000
END:DAYLIGHT
BEGIN:STANDARD
TZOFFSETFROM:+0200
TZOFFSETTO:+0100
TZNAME:CET
DTSTART:20231029T010000
END:STANDARD
BEGIN:DAYLIGHT
TZOFFSETFROM:+0100
TZOFFSETTO:+0200
TZNAME:CEST
DTSTART:20240331T010000
END:DAYLIGHT
BEGIN:STANDARD
TZOFFSETFROM:+0200
TZOFFSETTO:+0100
TZNAME:CET
DTSTART:20241027T010000
END:STANDARD
END:VTIMEZONE
BEGIN:VEVENT
DTSTART;VALUE=DATE:20230701
DTEND;VALUE=DATE:20230927
DTSTAMP:20260419T221531
CREATED:20230526T151002Z
LAST-MODIFIED:20230831T093651Z
UID:598-1688169600-1695772799@urig-altdorf.ch
SUMMARY:Lokal geschlossen
DESCRIPTION:1. Juli bis und mit 26. September 2023
URL:https://urig-altdorf.ch/event/sommerferien/
LOCATION:Urig Altdorf\, Grenzgasse 8\, 6460 Altdorf\, Switzerland
END:VEVENT
BEGIN:VEVENT
DTSTART;TZID=Europe/Zurich:20230909T140000
DTEND;TZID=Europe/Zurich:20230909T170000
DTSTAMP:20260419T221531
CREATED:20230831T094048Z
LAST-MODIFIED:20230831T094048Z
UID:631-1694268000-1694278800@urig-altdorf.ch
SUMMARY:Heilstein Armketteli Workshop
DESCRIPTION:Du hast die Gelegenheit\, dir ein wundervolles Heilstein-Armketteli selbst zu kreieren.
URL:https://urig-altdorf.ch/event/heilstein-armketteli-workshop/
LOCATION:Urig Altdorf\, Grenzgasse 8\, 6460 Altdorf\, Switzerland
ATTACH;FMTTYPE=image/jpeg:https://urig-altdorf.ch/wp-content/uploads/2023/08/4AAB1D39-3F60-4239-9D68-5CBC6AC80B03_1_201_a.jpeg
END:VEVENT
END:VCALENDAR