BEGIN:VCALENDAR
VERSION:2.0
PRODID:-//Urig Altdorf - ECPv6.15.20//NONSGML v1.0//EN
CALSCALE:GREGORIAN
METHOD:PUBLISH
X-WR-CALNAME:Urig Altdorf
X-ORIGINAL-URL:https://urig-altdorf.ch
X-WR-CALDESC:Veranstaltungen für Urig Altdorf
REFRESH-INTERVAL;VALUE=DURATION:PT1H
X-Robots-Tag:noindex
X-PUBLISHED-TTL:PT1H
BEGIN:VTIMEZONE
TZID:Europe/Zurich
BEGIN:DAYLIGHT
TZOFFSETFROM:+0100
TZOFFSETTO:+0200
TZNAME:CEST
DTSTART:20220327T010000
END:DAYLIGHT
BEGIN:STANDARD
TZOFFSETFROM:+0200
TZOFFSETTO:+0100
TZNAME:CET
DTSTART:20221030T010000
END:STANDARD
BEGIN:DAYLIGHT
TZOFFSETFROM:+0100
TZOFFSETTO:+0200
TZNAME:CEST
DTSTART:20230326T010000
END:DAYLIGHT
BEGIN:STANDARD
TZOFFSETFROM:+0200
TZOFFSETTO:+0100
TZNAME:CET
DTSTART:20231029T010000
END:STANDARD
BEGIN:DAYLIGHT
TZOFFSETFROM:+0100
TZOFFSETTO:+0200
TZNAME:CEST
DTSTART:20240331T010000
END:DAYLIGHT
BEGIN:STANDARD
TZOFFSETFROM:+0200
TZOFFSETTO:+0100
TZNAME:CET
DTSTART:20241027T010000
END:STANDARD
END:VTIMEZONE
BEGIN:VEVENT
DTSTART;TZID=Europe/Zurich:20230613T193000
DTEND;TZID=Europe/Zurich:20230613T213000
DTSTAMP:20260420T030049
CREATED:20230607T124129Z
LAST-MODIFIED:20230607T124129Z
UID:608-1686684600-1686691800@urig-altdorf.ch
SUMMARY:Buchvorstellung Wallhandria
DESCRIPTION:Buchvorstellung – Wallhandria -Die Steine der Macht \n\nDie Urner Autorin Miriam erzählt über ihren Weg vom Schweigeretreat bis zum gedruckten Buch und erklärt\, wieso sie ihr Buch nicht nur Roman sondern spiritueller Roman nennt. Der Abend wird so gestaltet\, dass er für alle spannend wird\, unabhängig davon\, ob das Buch schon gelesen wurde oder nicht.
URL:https://urig-altdorf.ch/event/buchvorstellung-wallhandria/
LOCATION:Urig Altdorf\, Grenzgasse 8\, 6460 Altdorf\, Switzerland
ATTACH;FMTTYPE=image/png:https://urig-altdorf.ch/wp-content/uploads/2023/06/B5ADD555-B26E-4EE8-9651-A8F0DD86A05A.png
END:VEVENT
END:VCALENDAR