BEGIN:VCALENDAR
VERSION:2.0
PRODID:-//Urig Altdorf - ECPv6.15.20//NONSGML v1.0//EN
CALSCALE:GREGORIAN
METHOD:PUBLISH
X-ORIGINAL-URL:https://urig-altdorf.ch
X-WR-CALDESC:Veranstaltungen für Urig Altdorf
REFRESH-INTERVAL;VALUE=DURATION:PT1H
X-Robots-Tag:noindex
X-PUBLISHED-TTL:PT1H
BEGIN:VTIMEZONE
TZID:Europe/Zurich
BEGIN:DAYLIGHT
TZOFFSETFROM:+0100
TZOFFSETTO:+0200
TZNAME:CEST
DTSTART:20220327T010000
END:DAYLIGHT
BEGIN:STANDARD
TZOFFSETFROM:+0200
TZOFFSETTO:+0100
TZNAME:CET
DTSTART:20221030T010000
END:STANDARD
BEGIN:DAYLIGHT
TZOFFSETFROM:+0100
TZOFFSETTO:+0200
TZNAME:CEST
DTSTART:20230326T010000
END:DAYLIGHT
BEGIN:STANDARD
TZOFFSETFROM:+0200
TZOFFSETTO:+0100
TZNAME:CET
DTSTART:20231029T010000
END:STANDARD
BEGIN:DAYLIGHT
TZOFFSETFROM:+0100
TZOFFSETTO:+0200
TZNAME:CEST
DTSTART:20240331T010000
END:DAYLIGHT
BEGIN:STANDARD
TZOFFSETFROM:+0200
TZOFFSETTO:+0100
TZNAME:CET
DTSTART:20241027T010000
END:STANDARD
END:VTIMEZONE
BEGIN:VEVENT
DTSTART;TZID=Europe/Zurich:20230602T193000
DTEND;TZID=Europe/Zurich:20230602T213000
DTSTAMP:20260420T030105
CREATED:20230405T133925Z
LAST-MODIFIED:20230517T182502Z
UID:562-1685734200-1685741400@urig-altdorf.ch
SUMMARY:Unschooling
DESCRIPTION:Die Schweizer Unschooling-Pioniere Bruno und Doris Gantenbein haben mehr als 20 Jahre Erfahrung mit einem Leben ohne Schule. \nAn diesem Urig-Anlass plaudern sie aus dem Nähkästchen\, erzählen von ihrem Alltag und was das Wichtigste dabei ist\, wie sie sich organisiert hatten\, wie sie Unschooling ganz praktisch umgesetzt hatten\, mit welcher inneren Haltung sie ihre drei Kinder begleitet hatten\, welches der grösste Fehler ist…
URL:https://urig-altdorf.ch/event/unschooling/
LOCATION:Urig Altdorf\, Grenzgasse 8\, 6460 Altdorf\, Switzerland
ATTACH;FMTTYPE=image/png:https://urig-altdorf.ch/wp-content/uploads/2023/04/D31CA8DC-998A-42FD-A63A-B0BFF9287FDF.png
END:VEVENT
END:VCALENDAR