BEGIN:VCALENDAR
VERSION:2.0
PRODID:-//Urig Altdorf - ECPv6.15.20//NONSGML v1.0//EN
CALSCALE:GREGORIAN
METHOD:PUBLISH
X-ORIGINAL-URL:https://urig-altdorf.ch
X-WR-CALDESC:Veranstaltungen für Urig Altdorf
REFRESH-INTERVAL;VALUE=DURATION:PT1H
X-Robots-Tag:noindex
X-PUBLISHED-TTL:PT1H
BEGIN:VTIMEZONE
TZID:Europe/Zurich
BEGIN:DAYLIGHT
TZOFFSETFROM:+0100
TZOFFSETTO:+0200
TZNAME:CEST
DTSTART:20220327T010000
END:DAYLIGHT
BEGIN:STANDARD
TZOFFSETFROM:+0200
TZOFFSETTO:+0100
TZNAME:CET
DTSTART:20221030T010000
END:STANDARD
BEGIN:DAYLIGHT
TZOFFSETFROM:+0100
TZOFFSETTO:+0200
TZNAME:CEST
DTSTART:20230326T010000
END:DAYLIGHT
BEGIN:STANDARD
TZOFFSETFROM:+0200
TZOFFSETTO:+0100
TZNAME:CET
DTSTART:20231029T010000
END:STANDARD
BEGIN:DAYLIGHT
TZOFFSETFROM:+0100
TZOFFSETTO:+0200
TZNAME:CEST
DTSTART:20240331T010000
END:DAYLIGHT
BEGIN:STANDARD
TZOFFSETFROM:+0200
TZOFFSETTO:+0100
TZNAME:CET
DTSTART:20241027T010000
END:STANDARD
END:VTIMEZONE
BEGIN:VEVENT
DTSTART;TZID=Europe/Zurich:20230517T193000
DTEND;TZID=Europe/Zurich:20230517T213000
DTSTAMP:20260420T044836
CREATED:20230405T133836Z
LAST-MODIFIED:20230513T083438Z
UID:560-1684351800-1684359000@urig-altdorf.ch
SUMMARY:Nathtod
DESCRIPTION:Das Thema Nahtod interessiert dich? Dann bist du genau richtig! An diesem Abend erzählt Natascha ihre persönliche Geschichte. Ein Zusammenspiel zwischen Krankheit\, Ablehnung und Lebenswillen. Wie 45 Minuten Herzstillstand und ein 10-tägiger Komazustand das Leben von Natascha verändert haben. Eine bewegende Reise in andere Zeitlinien und andere Dimensionen. Sie teilt ihre Erkenntnisse aus dem Erlebnis und du hast die Möglichkeit all deine Fragen zum Thema Nahtod zu stellen. \n\n✅ Ziele dieses Vortrags: Ein Ausflug in das Leben von Natascha und ihr Erlebnis. Erkenntnisse aus dieser Zeit teilen. Wieso wir keine Angst vor dem Tod haben müssen und weshalb es sinnvoll ist\, sich mit dem Tod auseinanderzusetzen.
URL:https://urig-altdorf.ch/event/nathtod-erfahrung/
LOCATION:Urig Altdorf\, Grenzgasse 8\, 6460 Altdorf\, Switzerland
ATTACH;FMTTYPE=image/png:https://urig-altdorf.ch/wp-content/uploads/2023/04/D07AAB48-73EB-46F2-BC87-C03C011C57C1.png
END:VEVENT
END:VCALENDAR