BEGIN:VCALENDAR
VERSION:2.0
PRODID:-//Urig Altdorf - ECPv6.15.20//NONSGML v1.0//EN
CALSCALE:GREGORIAN
METHOD:PUBLISH
X-WR-CALNAME:Urig Altdorf
X-ORIGINAL-URL:https://urig-altdorf.ch
X-WR-CALDESC:Veranstaltungen für Urig Altdorf
REFRESH-INTERVAL;VALUE=DURATION:PT1H
X-Robots-Tag:noindex
X-PUBLISHED-TTL:PT1H
BEGIN:VTIMEZONE
TZID:Europe/Zurich
BEGIN:DAYLIGHT
TZOFFSETFROM:+0100
TZOFFSETTO:+0200
TZNAME:CEST
DTSTART:20220327T010000
END:DAYLIGHT
BEGIN:STANDARD
TZOFFSETFROM:+0200
TZOFFSETTO:+0100
TZNAME:CET
DTSTART:20221030T010000
END:STANDARD
BEGIN:DAYLIGHT
TZOFFSETFROM:+0100
TZOFFSETTO:+0200
TZNAME:CEST
DTSTART:20230326T010000
END:DAYLIGHT
BEGIN:STANDARD
TZOFFSETFROM:+0200
TZOFFSETTO:+0100
TZNAME:CET
DTSTART:20231029T010000
END:STANDARD
BEGIN:DAYLIGHT
TZOFFSETFROM:+0100
TZOFFSETTO:+0200
TZNAME:CEST
DTSTART:20240331T010000
END:DAYLIGHT
BEGIN:STANDARD
TZOFFSETFROM:+0200
TZOFFSETTO:+0100
TZNAME:CET
DTSTART:20241027T010000
END:STANDARD
END:VTIMEZONE
BEGIN:VEVENT
DTSTART;TZID=Europe/Zurich:20230429T130000
DTEND;TZID=Europe/Zurich:20230429T173000
DTSTAMP:20260420T063141
CREATED:20230307T162841Z
LAST-MODIFIED:20230307T162841Z
UID:516-1682773200-1682789400@urig-altdorf.ch
SUMMARY:Könntest du im Notfall Leben retten?
DESCRIPTION:Jein?😉 Lerne Leben retten mit Alpinmedic.ch \n\nWer kennt es nicht? Dieses mulmige Gefühl\, dass man kaum korrekt handeln könnte\, wenn man an einen Notfall gelangen würde. Wie funktioniert schon wieder die Herzdruckmassage? Was ist der Heimlich-Griff? Und wie handelt man bei einem Unfall? \n\nDer letzte Nothelfer-Kurs liegt bei den meisten von uns schon Jahrzehnte zurück. Dabei entscheidet die erste Hilfe über Leben und Tod. \nAufgrund dessen bietet Alpinmedic.ch seit 2009 in der ganzen Schweiz zugeschnittene medizinische Sicherheitsdienstleistungen an. \nZiel ist es\, uns Urigern das lebensrettende Wissen in Form von einem Kurs vor Ort aufzufrischen. Urig Altdorf bietet die Möglichkeit sich weiterzubilden (mit Fachausweis falls gewünscht\, Fixpreis). \n\nInhalt und Kursziel: \n\nEinstieg in die Erste Hilfe bei Medizinischen Notfällen\nAlarmnummer in der Schweiz-der Notruf\nErstbeurteilung-Eigene Sicherheit\nVerkehrsunfall\, Auto\, Velo\, Motorrad\, Kickboard\nBewusstlose Person-Lagerung-Erstbeurteilung\nHerzdruckmassage und Einsatz des Laien Defibrillator AED\nAkute Atemnot und Erstickungsanfall\nSymptome Herzinfarkt und Schlaganfall\, was kann ich tun?\nSchnittverletzungen\, starke Blutungen\nDer Haushaltsunfall\, was ist häufig?\nMeine Apotheke\, wie schaut das Innenleben aus? Beratung und Infos zum sinnvollen Inhalt.
URL:https://urig-altdorf.ch/event/koenntest-du-im-notfall-leben-retten/
LOCATION:Urig Altdorf\, Grenzgasse 8\, 6460 Altdorf\, Switzerland
ATTACH;FMTTYPE=image/png:https://urig-altdorf.ch/wp-content/uploads/2023/03/47C16EA7-A35F-40C2-9022-669BA063C77B.png
END:VEVENT
END:VCALENDAR