BEGIN:VCALENDAR
VERSION:2.0
PRODID:-//Urig Altdorf - ECPv6.15.20//NONSGML v1.0//EN
CALSCALE:GREGORIAN
METHOD:PUBLISH
X-WR-CALNAME:Urig Altdorf
X-ORIGINAL-URL:https://urig-altdorf.ch
X-WR-CALDESC:Veranstaltungen für Urig Altdorf
REFRESH-INTERVAL;VALUE=DURATION:PT1H
X-Robots-Tag:noindex
X-PUBLISHED-TTL:PT1H
BEGIN:VTIMEZONE
TZID:Europe/Zurich
BEGIN:DAYLIGHT
TZOFFSETFROM:+0100
TZOFFSETTO:+0200
TZNAME:CEST
DTSTART:20220327T010000
END:DAYLIGHT
BEGIN:STANDARD
TZOFFSETFROM:+0200
TZOFFSETTO:+0100
TZNAME:CET
DTSTART:20221030T010000
END:STANDARD
BEGIN:DAYLIGHT
TZOFFSETFROM:+0100
TZOFFSETTO:+0200
TZNAME:CEST
DTSTART:20230326T010000
END:DAYLIGHT
BEGIN:STANDARD
TZOFFSETFROM:+0200
TZOFFSETTO:+0100
TZNAME:CET
DTSTART:20231029T010000
END:STANDARD
BEGIN:DAYLIGHT
TZOFFSETFROM:+0100
TZOFFSETTO:+0200
TZNAME:CEST
DTSTART:20240331T010000
END:DAYLIGHT
BEGIN:STANDARD
TZOFFSETFROM:+0200
TZOFFSETTO:+0100
TZNAME:CET
DTSTART:20241027T010000
END:STANDARD
END:VTIMEZONE
BEGIN:VEVENT
DTSTART;TZID=Europe/Zurich:20230331T090000
DTEND;TZID=Europe/Zurich:20230331T110000
DTSTAMP:20260420T063312
CREATED:20230307T163511Z
LAST-MODIFIED:20230307T163511Z
UID:530-1680253200-1680260400@urig-altdorf.ch
SUMMARY:Eltern Kind Gartentreff
DESCRIPTION:Jeweils am Freitag haben Mamis und Dädis mit Kindern im Vorschulalter die Möglichkeit im Uriger Garten zu jäten\, ernten\, mulchen etc. oder gemeinsam zu spielen\, sich auszutauschen und Spass zu haben. \nDie Kinder können jederzeit frei wählen\, ob sie ihrem Mami/Dädi beim Gärtnern mithelfen oder bei Spiel und Spass in Begleitung eines Erwachsenen die Bauernhofwelt entdecken möchten. Bei kaltem/nassem Wetter findet das Treffen im Uriglokal statt. \nEs besteht die Möglichkeit anschliessend beim Uriger Mittagstisch zu essen (Anmeldung separat über die Telegram-Umfrage vom Mittagstisch).
URL:https://urig-altdorf.ch/event/eltern-kind-gartentreff-4/
LOCATION:Urig Altdorf\, Grenzgasse 8\, 6460 Altdorf\, Switzerland
ATTACH;FMTTYPE=image/png:https://urig-altdorf.ch/wp-content/uploads/2023/01/4504A4E9-3C15-4A25-9BF7-FD3C5198E79D.png
END:VEVENT
BEGIN:VEVENT
DTSTART;TZID=Europe/Zurich:20230331T120000
DTEND;TZID=Europe/Zurich:20230331T133000
DTSTAMP:20260420T063312
CREATED:20230307T163342Z
LAST-MODIFIED:20230307T163342Z
UID:524-1680264000-1680269400@urig-altdorf.ch
SUMMARY:Mittagstisch
DESCRIPTION:Leckeres Essen aus dem Urig Garten.
URL:https://urig-altdorf.ch/event/mittagstisch-4/
LOCATION:Urig Altdorf\, Grenzgasse 8\, 6460 Altdorf\, Switzerland
ATTACH;FMTTYPE=image/png:https://urig-altdorf.ch/wp-content/uploads/2022/12/1D5008DC-E6BC-4A19-9AC4-C92C42A6D8D9.png
END:VEVENT
BEGIN:VEVENT
DTSTART;TZID=Europe/Zurich:20230331T193000
DTEND;TZID=Europe/Zurich:20230331T213000
DTSTAMP:20260420T063312
CREATED:20230307T163709Z
LAST-MODIFIED:20230307T163942Z
UID:532-1680291000-1680298200@urig-altdorf.ch
SUMMARY:Wir reden über Beziehungen
DESCRIPTION:Eine Beziehung beinhaltet viele Lebensbereiche\, die erfahren werden wollen. Es kommt \nauf das Bewusstsein jedes einzelnen Menschen an\, wie er seine Partnerschaft pflegt\, ihr \neinen Sinn gibt und an einer tragfähigen Basis interessiert ist. Die meisten Beziehungen \nsind umständehalber zweckgebunden. Erst wenn die Energieverhältnisse zwischen Mann \nund Weib erkannt\, entsprechend gelebt und im Sinne des Seelenauftrags gelebt werden\, \nkann auch in jeder Beziehung/Partnerschaft Heilung geschehen. Für die manipulativen \nKräfte der neuen „Weltverbesserer“ ist es ein leichtes eine Veränderung in der \nGeschlächterwelt einzuleiten. Diese Zusammenhänge werden an diesem Abend aus einer \ntieferen Sichtweise erklärt. Transhumanismus ist das neue Zauberwort. Wollen wir die \n„neue“ Normalität akzeptieren\, oder hat die Schöpfung einen anderen Plan\, eine andere \nEntwicklung für das Geschlecht vorgesehen?
URL:https://urig-altdorf.ch/event/wir-reden-ueber-beziehungen/
LOCATION:Urig Altdorf\, Grenzgasse 8\, 6460 Altdorf\, Switzerland
ATTACH;FMTTYPE=image/png:https://urig-altdorf.ch/wp-content/uploads/2023/02/5F14E108-2C51-4888-B93C-6ACE85ED0DFB.png
END:VEVENT
END:VCALENDAR