BEGIN:VCALENDAR
VERSION:2.0
PRODID:-//Urig Altdorf - ECPv6.15.20//NONSGML v1.0//EN
CALSCALE:GREGORIAN
METHOD:PUBLISH
X-WR-CALNAME:Urig Altdorf
X-ORIGINAL-URL:https://urig-altdorf.ch
X-WR-CALDESC:Veranstaltungen für Urig Altdorf
REFRESH-INTERVAL;VALUE=DURATION:PT1H
X-Robots-Tag:noindex
X-PUBLISHED-TTL:PT1H
BEGIN:VTIMEZONE
TZID:Europe/Zurich
BEGIN:DAYLIGHT
TZOFFSETFROM:+0100
TZOFFSETTO:+0200
TZNAME:CEST
DTSTART:20220327T010000
END:DAYLIGHT
BEGIN:STANDARD
TZOFFSETFROM:+0200
TZOFFSETTO:+0100
TZNAME:CET
DTSTART:20221030T010000
END:STANDARD
BEGIN:DAYLIGHT
TZOFFSETFROM:+0100
TZOFFSETTO:+0200
TZNAME:CEST
DTSTART:20230326T010000
END:DAYLIGHT
BEGIN:STANDARD
TZOFFSETFROM:+0200
TZOFFSETTO:+0100
TZNAME:CET
DTSTART:20231029T010000
END:STANDARD
BEGIN:DAYLIGHT
TZOFFSETFROM:+0100
TZOFFSETTO:+0200
TZNAME:CEST
DTSTART:20240331T010000
END:DAYLIGHT
BEGIN:STANDARD
TZOFFSETFROM:+0200
TZOFFSETTO:+0100
TZNAME:CET
DTSTART:20241027T010000
END:STANDARD
END:VTIMEZONE
BEGIN:VEVENT
DTSTART;TZID=Europe/Zurich:20230325T130000
DTEND;TZID=Europe/Zurich:20230325T173000
DTSTAMP:20260420T075803
CREATED:20230307T162549Z
LAST-MODIFIED:20230307T162905Z
UID:513-1679749200-1679765400@urig-altdorf.ch
SUMMARY:Erste Hilfe bei Kindern und Jugendlichen
DESCRIPTION:Du möchtest wissen\, wie du in Notfallsituationen mit deinem Kind\, Grosskind oder Tageskind richtig reagierst? Oder du leitest eine Kinder- oder Jugendgruppe und möchtest dich im Umgang mit ihnen zu jeder Zeit sicher fühlen? \nBeat Mühlethaler\, dipl. Rettungssanitäter HF\, zeigt dir das korrekte Vorgehen und beantwortet deine Fragen. \nUrig Altdorf bietet dir die Möglichkeit dich weiterzubilden. \nInhalt und Kursziel: \n\nVerhalten bei Unfällen und Krankheiten\nErstickungsnotfall mit oder ohne Hilfsmittel\nVergiftungen (Haushalt)\nFieberkrampf\nPseudokrupp/Asthma\nSchütteltrauma\nSchnittverletzungen\nVerbrennungen/Verbrühungen\nBewusstlosigkeit nach Badeunfall\nStromunfälle (Haushalt)
URL:https://urig-altdorf.ch/event/erste-hilfe-bei-kindern-und-jugendlichen/
LOCATION:Urig Altdorf\, Grenzgasse 8\, 6460 Altdorf\, Switzerland
ATTACH;FMTTYPE=image/png:https://urig-altdorf.ch/wp-content/uploads/2023/03/D2E48926-2FEF-40DA-B40D-3FB21D2C4408.png
END:VEVENT
END:VCALENDAR