BEGIN:VCALENDAR
VERSION:2.0
PRODID:-//Urig Altdorf - ECPv6.15.20//NONSGML v1.0//EN
CALSCALE:GREGORIAN
METHOD:PUBLISH
X-WR-CALNAME:Urig Altdorf
X-ORIGINAL-URL:https://urig-altdorf.ch
X-WR-CALDESC:Veranstaltungen für Urig Altdorf
REFRESH-INTERVAL;VALUE=DURATION:PT1H
X-Robots-Tag:noindex
X-PUBLISHED-TTL:PT1H
BEGIN:VTIMEZONE
TZID:Europe/Zurich
BEGIN:DAYLIGHT
TZOFFSETFROM:+0100
TZOFFSETTO:+0200
TZNAME:CEST
DTSTART:20220327T010000
END:DAYLIGHT
BEGIN:STANDARD
TZOFFSETFROM:+0200
TZOFFSETTO:+0100
TZNAME:CET
DTSTART:20221030T010000
END:STANDARD
BEGIN:DAYLIGHT
TZOFFSETFROM:+0100
TZOFFSETTO:+0200
TZNAME:CEST
DTSTART:20230326T010000
END:DAYLIGHT
BEGIN:STANDARD
TZOFFSETFROM:+0200
TZOFFSETTO:+0100
TZNAME:CET
DTSTART:20231029T010000
END:STANDARD
BEGIN:DAYLIGHT
TZOFFSETFROM:+0100
TZOFFSETTO:+0200
TZNAME:CEST
DTSTART:20240331T010000
END:DAYLIGHT
BEGIN:STANDARD
TZOFFSETFROM:+0200
TZOFFSETTO:+0100
TZNAME:CET
DTSTART:20241027T010000
END:STANDARD
END:VTIMEZONE
BEGIN:VEVENT
DTSTART;TZID=Europe/Zurich:20230317T090000
DTEND;TZID=Europe/Zurich:20230317T110000
DTSTAMP:20260420T075655
CREATED:20230307T163433Z
LAST-MODIFIED:20230307T163433Z
UID:526-1679043600-1679050800@urig-altdorf.ch
SUMMARY:Eltern Kind Gartentreff
DESCRIPTION:Jeweils am Freitag haben Mamis und Dädis mit Kindern im Vorschulalter die Möglichkeit im Uriger Garten zu jäten\, ernten\, mulchen etc. oder gemeinsam zu spielen\, sich auszutauschen und Spass zu haben. \nDie Kinder können jederzeit frei wählen\, ob sie ihrem Mami/Dädi beim Gärtnern mithelfen oder bei Spiel und Spass in Begleitung eines Erwachsenen die Bauernhofwelt entdecken möchten. Bei kaltem/nassem Wetter findet das Treffen im Uriglokal statt. \nEs besteht die Möglichkeit anschliessend beim Uriger Mittagstisch zu essen (Anmeldung separat über die Telegram-Umfrage vom Mittagstisch).
URL:https://urig-altdorf.ch/event/eltern-kind-gartentreff-2/
LOCATION:Urig Altdorf\, Grenzgasse 8\, 6460 Altdorf\, Switzerland
ATTACH;FMTTYPE=image/png:https://urig-altdorf.ch/wp-content/uploads/2023/01/4504A4E9-3C15-4A25-9BF7-FD3C5198E79D.png
END:VEVENT
BEGIN:VEVENT
DTSTART;TZID=Europe/Zurich:20230317T120000
DTEND;TZID=Europe/Zurich:20230317T133000
DTSTAMP:20260420T075655
CREATED:20230307T163229Z
LAST-MODIFIED:20230307T163229Z
UID:520-1679054400-1679059800@urig-altdorf.ch
SUMMARY:Mittagstisch
DESCRIPTION:Leckeres Essen aus dem Urig Garten.
URL:https://urig-altdorf.ch/event/mittagstisch-2/
LOCATION:Urig Altdorf\, Grenzgasse 8\, 6460 Altdorf\, Switzerland
ATTACH;FMTTYPE=image/png:https://urig-altdorf.ch/wp-content/uploads/2022/12/1D5008DC-E6BC-4A19-9AC4-C92C42A6D8D9.png
END:VEVENT
BEGIN:VEVENT
DTSTART;TZID=Europe/Zurich:20230317T193000
DTEND;TZID=Europe/Zurich:20230317T220000
DTSTAMP:20260420T075655
CREATED:20230205T124736Z
LAST-MODIFIED:20230205T142845Z
UID:501-1679081400-1679090400@urig-altdorf.ch
SUMMARY:Krankheit & Gesundheit aus der Sicht der 5 biologischen Naturgesetze
DESCRIPTION:Thema: \n• Was ist die Ursache von Krankheit \n• Wie kommt es zur Heilung / Regeneration / Spontanheilung \n• Der Mechanismus hinter Krankheit \n• Was die Mikroorganismen (Pilze\, Bakterien und „Viren“) für einen Einfluss haben \n• Ist Krankheit Schicksal oder ganz einfache Biologie \nZiel vom Vortrag: \nEinen Einblick zu vermitteln\, um was es bei den 5 biologischen Gesetzen geht. \nZielpublikum: \nVorwiegend Menschen\, die sich noch nicht mit der Neuen Medizin befasst haben oder sich nicht gut damit auskennen. \nNutzen: \nZu erkennen was du im Krankheitsfalle unternehmen kannst\, um möglichst schnell wieder gesund zu werden.
URL:https://urig-altdorf.ch/event/krankheit-gesundheit-aus-der-sicht-der-5-biologischen-naturgesetze/
LOCATION:Urig Altdorf\, Grenzgasse 8\, 6460 Altdorf\, Switzerland
ATTACH;FMTTYPE=image/png:https://urig-altdorf.ch/wp-content/uploads/2023/02/68B090CB-21AD-4FCB-8286-0A74BEAC74CB.png
END:VEVENT
END:VCALENDAR