BEGIN:VCALENDAR
VERSION:2.0
PRODID:-//Urig Altdorf - ECPv6.15.20//NONSGML v1.0//EN
CALSCALE:GREGORIAN
METHOD:PUBLISH
X-ORIGINAL-URL:https://urig-altdorf.ch
X-WR-CALDESC:Veranstaltungen für Urig Altdorf
REFRESH-INTERVAL;VALUE=DURATION:PT1H
X-Robots-Tag:noindex
X-PUBLISHED-TTL:PT1H
BEGIN:VTIMEZONE
TZID:Europe/Zurich
BEGIN:DAYLIGHT
TZOFFSETFROM:+0100
TZOFFSETTO:+0200
TZNAME:CEST
DTSTART:20220327T010000
END:DAYLIGHT
BEGIN:STANDARD
TZOFFSETFROM:+0200
TZOFFSETTO:+0100
TZNAME:CET
DTSTART:20221030T010000
END:STANDARD
BEGIN:DAYLIGHT
TZOFFSETFROM:+0100
TZOFFSETTO:+0200
TZNAME:CEST
DTSTART:20230326T010000
END:DAYLIGHT
BEGIN:STANDARD
TZOFFSETFROM:+0200
TZOFFSETTO:+0100
TZNAME:CET
DTSTART:20231029T010000
END:STANDARD
BEGIN:DAYLIGHT
TZOFFSETFROM:+0100
TZOFFSETTO:+0200
TZNAME:CEST
DTSTART:20240331T010000
END:DAYLIGHT
BEGIN:STANDARD
TZOFFSETFROM:+0200
TZOFFSETTO:+0100
TZNAME:CET
DTSTART:20241027T010000
END:STANDARD
END:VTIMEZONE
BEGIN:VEVENT
DTSTART;TZID=Europe/Zurich:20230311T173000
DTEND;TZID=Europe/Zurich:20230311T220000
DTSTAMP:20260420T080039
CREATED:20230307T164254Z
LAST-MODIFIED:20230307T164254Z
UID:536-1678555800-1678572000@urig-altdorf.ch
SUMMARY:Wildschwein-Spanferkel
DESCRIPTION:Die mittelalterliche Rumpelküche mit dem Rumpelhaufen bereiten für uns ein Wildschwein-Spanferkel über der Urig Altdorf Feuerstelle zu. Selbstverständlich ist auch für die Nicht-Fleischesser gesorgt. \nBitte meldet euch über Telegram an ob ihr Spanferkel oder nur vegetarisch schlemmen möchtet. \n\nMitbringen: Dem Wetter angepasste Kleidung.
URL:https://urig-altdorf.ch/event/wildschwein-spanferkel/
LOCATION:Urig Altdorf\, Grenzgasse 8\, 6460 Altdorf\, Switzerland
ATTACH;FMTTYPE=image/png:https://urig-altdorf.ch/wp-content/uploads/2023/03/F865F36B-3D73-4E8C-9FA0-6BFDE49D2F0B.png
END:VEVENT
END:VCALENDAR