BEGIN:VCALENDAR
VERSION:2.0
PRODID:-//Urig Altdorf - ECPv6.15.20//NONSGML v1.0//EN
CALSCALE:GREGORIAN
METHOD:PUBLISH
X-WR-CALNAME:Urig Altdorf
X-ORIGINAL-URL:https://urig-altdorf.ch
X-WR-CALDESC:Veranstaltungen für Urig Altdorf
REFRESH-INTERVAL;VALUE=DURATION:PT1H
X-Robots-Tag:noindex
X-PUBLISHED-TTL:PT1H
BEGIN:VTIMEZONE
TZID:Europe/Zurich
BEGIN:DAYLIGHT
TZOFFSETFROM:+0100
TZOFFSETTO:+0200
TZNAME:CEST
DTSTART:20220327T010000
END:DAYLIGHT
BEGIN:STANDARD
TZOFFSETFROM:+0200
TZOFFSETTO:+0100
TZNAME:CET
DTSTART:20221030T010000
END:STANDARD
BEGIN:DAYLIGHT
TZOFFSETFROM:+0100
TZOFFSETTO:+0200
TZNAME:CEST
DTSTART:20230326T010000
END:DAYLIGHT
BEGIN:STANDARD
TZOFFSETFROM:+0200
TZOFFSETTO:+0100
TZNAME:CET
DTSTART:20231029T010000
END:STANDARD
BEGIN:DAYLIGHT
TZOFFSETFROM:+0100
TZOFFSETTO:+0200
TZNAME:CEST
DTSTART:20240331T010000
END:DAYLIGHT
BEGIN:STANDARD
TZOFFSETFROM:+0200
TZOFFSETTO:+0100
TZNAME:CET
DTSTART:20241027T010000
END:STANDARD
END:VTIMEZONE
BEGIN:VEVENT
DTSTART;TZID=Europe/Zurich:20230310T090000
DTEND;TZID=Europe/Zurich:20230310T110000
DTSTAMP:20260420T080636
CREATED:20230205T121737Z
LAST-MODIFIED:20230307T163406Z
UID:489-1678438800-1678446000@urig-altdorf.ch
SUMMARY:Eltern Kind Gartentreff
DESCRIPTION:Jeweils am Freitag haben Mamis und Dädis mit Kindern im Vorschulalter die Möglichkeit im Uriger Garten zu jäten\, ernten\, mulchen etc. oder gemeinsam zu spielen\, sich auszutauschen und Spass zu haben. \nDie Kinder können jederzeit frei wählen\, ob sie ihrem Mami/Dädi beim Gärtnern mithelfen oder bei Spiel und Spass in Begleitung eines Erwachsenen die Bauernhofwelt entdecken möchten. Bei kaltem/nassem Wetter findet das Treffen im Uriglokal statt. \nEs besteht die Möglichkeit anschliessend beim Uriger Mittagstisch zu essen (Anmeldung separat über die Telegram-Umfrage vom Mittagstisch).
URL:https://urig-altdorf.ch/event/eltern-kind-gartentreff/
LOCATION:Urig Altdorf\, Grenzgasse 8\, 6460 Altdorf\, Switzerland
ATTACH;FMTTYPE=image/png:https://urig-altdorf.ch/wp-content/uploads/2023/01/4504A4E9-3C15-4A25-9BF7-FD3C5198E79D.png
END:VEVENT
BEGIN:VEVENT
DTSTART;TZID=Europe/Zurich:20230310T120000
DTEND;TZID=Europe/Zurich:20230310T133000
DTSTAMP:20260420T080636
CREATED:20230205T123828Z
LAST-MODIFIED:20230307T163147Z
UID:491-1678449600-1678455000@urig-altdorf.ch
SUMMARY:Mittagstisch
DESCRIPTION:Leckeres Essen aus dem Urig Garten.
URL:https://urig-altdorf.ch/event/mittagstisch/
LOCATION:Urig Altdorf\, Grenzgasse 8\, 6460 Altdorf\, Switzerland
ATTACH;FMTTYPE=image/png:https://urig-altdorf.ch/wp-content/uploads/2022/12/1D5008DC-E6BC-4A19-9AC4-C92C42A6D8D9.png
END:VEVENT
BEGIN:VEVENT
DTSTART;TZID=Europe/Zurich:20230310T193000
DTEND;TZID=Europe/Zurich:20230310T213000
DTSTAMP:20260420T080636
CREATED:20230205T124607Z
LAST-MODIFIED:20230205T124607Z
UID:499-1678476600-1678483800@urig-altdorf.ch
SUMMARY:Der Mensch\, ein Goldfisch im Wasserglas
DESCRIPTION:Das alte Weltbild darf erkannt und abgelegt werden. Als Folge erhält das Neue die Energie \ndie es braucht für die anstehende Transformation. Der Mensch\, respektive die Menschheit\, \nbefindet sich in einem neuen Werdeprozess. Diese Veränderung bedingt eine \nentsprechende Aufmerksamkeit. Die Menschheit steht erst am Anfang dieser Neuen Zeit. \nEs lohnt sich\, sich mit den entsprechenden Tatsachen vertraut zu machen\, damit die \nZukunft gemäss dem neuen Zeitalter bewusst eingeleitet werden kann. Die \nGeburtswehen sind spürbar – die Geburt braucht noch ihre Zeit. \nAn diesem Abend wirst du Bekanntes aus einer neuen Sichtweise erfahren. Du wirst \ndas Geheimnis des vierblättrigen Kleeblattes erfahren und somit Liebgewordenes \nüberdenken und einiges hinterfragen. Das Ziel ist nicht nur erwachen sondern wach zu \nbleiben.
URL:https://urig-altdorf.ch/event/der-mensch-ein-goldfisch-im-wasserglas/
LOCATION:Urig Altdorf\, Grenzgasse 8\, 6460 Altdorf\, Switzerland
ATTACH;FMTTYPE=image/png:https://urig-altdorf.ch/wp-content/uploads/2023/02/4A7D08D9-188A-439E-9FB4-B6B784AF5E1C.png
END:VEVENT
END:VCALENDAR