BEGIN:VCALENDAR
VERSION:2.0
PRODID:-//Urig Altdorf - ECPv6.15.20//NONSGML v1.0//EN
CALSCALE:GREGORIAN
METHOD:PUBLISH
X-WR-CALNAME:Urig Altdorf
X-ORIGINAL-URL:https://urig-altdorf.ch
X-WR-CALDESC:Veranstaltungen für Urig Altdorf
REFRESH-INTERVAL;VALUE=DURATION:PT1H
X-Robots-Tag:noindex
X-PUBLISHED-TTL:PT1H
BEGIN:VTIMEZONE
TZID:Europe/Zurich
BEGIN:DAYLIGHT
TZOFFSETFROM:+0100
TZOFFSETTO:+0200
TZNAME:CEST
DTSTART:20220327T010000
END:DAYLIGHT
BEGIN:STANDARD
TZOFFSETFROM:+0200
TZOFFSETTO:+0100
TZNAME:CET
DTSTART:20221030T010000
END:STANDARD
BEGIN:DAYLIGHT
TZOFFSETFROM:+0100
TZOFFSETTO:+0200
TZNAME:CEST
DTSTART:20230326T010000
END:DAYLIGHT
BEGIN:STANDARD
TZOFFSETFROM:+0200
TZOFFSETTO:+0100
TZNAME:CET
DTSTART:20231029T010000
END:STANDARD
BEGIN:DAYLIGHT
TZOFFSETFROM:+0100
TZOFFSETTO:+0200
TZNAME:CEST
DTSTART:20240331T010000
END:DAYLIGHT
BEGIN:STANDARD
TZOFFSETFROM:+0200
TZOFFSETTO:+0100
TZNAME:CET
DTSTART:20241027T010000
END:STANDARD
END:VTIMEZONE
BEGIN:VEVENT
DTSTART;TZID=Europe/Zurich:20230303T190000
DTEND;TZID=Europe/Zurich:20230303T213000
DTSTAMP:20260420T080732
CREATED:20230205T124325Z
LAST-MODIFIED:20230205T124325Z
UID:497-1677870000-1677879000@urig-altdorf.ch
SUMMARY:Sinn und Geheimnis des Räucherns mit Sam Hess
DESCRIPTION:Fremdenergien erkennen – Geheimnis des Räucherns Alles ist Schwingung und in dieser Schwingung erzeugen wir mit jeder Handlung\, ja mit jedem Gedanken und gesprochenen Wort Energie. In Räumen\, in denen wir uns aufhalten\, arbeiten oder wohnen\, spüren wir diese Energien und nehmen sie vielfach als extrem belastend wahr. Das geht soweit\, dass uns ein kalter Schauer erfasst\, ja unsere Gesundheit zu leiden beginnt. Wenn dann noch Energiefelder von „verstorbenen Menschen“ spürbar vorhanden sind\, ist gezieltes Handeln unumgänglich. Sam Hess wird in seinem Vortrag aufzeigen\, wie negativen Energien begegnet werden kann und wie man sie selbst gekonnt auflöst; wie man dunkle Gedanken vertreibt und sich damit selbst positiv anregende\, wohltuende Räume schafft.
URL:https://urig-altdorf.ch/event/sinn-und-geheimnis-des-raeucherns-mit-sam-hess/
LOCATION:Urig Altdorf\, Grenzgasse 8\, 6460 Altdorf\, Switzerland
ATTACH;FMTTYPE=image/png:https://urig-altdorf.ch/wp-content/uploads/2023/01/DA6706FD-69A8-4B50-89F2-A77ABE2D57CB.png
END:VEVENT
END:VCALENDAR